BEGIN:VCALENDAR
VERSION:2.0
PRODID:-//ChamberMaster//Event Calendar 2.0//EN
METHOD:PUBLISH
X-PUBLISHED-TTL:P3D
REFRESH-INTERVAL:P3D
CALSCALE:GREGORIAN
BEGIN:VEVENT
DTSTART:20170101T180000Z
DTEND:20170101T200000Z
X-MICROSOFT-CDO-ALLDAYEVENT:FALSE
SUMMARY:Meat Raffle
DESCRIPTION:Bar Buddies is hosting a Meat Raffle event at The Gym Bar & Grill.  The last few rounds of the Meat Raffle\, there will be a chance to win some free drinks to be used at The Gym.
X-ALT-DESC;FMTTYPE=text/html:Bar Buddies is hosting a Meat Raffle event at The Gym Bar &amp\; Grill. &nbsp\;The last few rounds of the Meat Raffle\, there will be a chance to win some free drinks to be used at The Gym. &nbsp\;
LOCATION:The Gym Bar & Grill: 833 Water St\, Sauk City
UID:e.1184.9826
SEQUENCE:3
DTSTAMP:20260425T123847Z
URL:http://members.saukprairie.com/events/details/meat-raffle-9826
END:VEVENT

END:VCALENDAR
