BEGIN:VCALENDAR
VERSION:2.0
PRODID:-//ChamberMaster//Event Calendar 2.0//EN
METHOD:PUBLISH
X-PUBLISHED-TTL:P3D
REFRESH-INTERVAL:P3D
CALSCALE:GREGORIAN
BEGIN:VEVENT
DTSTART:20160423T150000Z
DTEND:20160423T200000Z
X-MICROSOFT-CDO-ALLDAYEVENT:FALSE
SUMMARY:Meet a Hero. Honor a Hero. Be a Hero. - A fun event for everyone
DESCRIPTION:As you may be aware\, a group of volunteers has challenged the Sauk Prairie Community and surrounding areas to raise $100\,000 to sponsor an entire Badger Honor Flight!  We knew we had to help and came up with a family fun event we are calling:\n\n\n\nMeet a Hero.  Honor a Hero.  Be a Hero.\n\n\n\nJoin us for a family fun day!  Meet heroes of all kinds like soldiers\, veterans\, firefighters\, police officers\, and many more!  We will have great kids' activities\, food tents and musical guests to honor our veterans and their families.  Our raffle will have awesome items like an official NFL signed football from John Kuhn!  We are also organizing a blood drive on the day of the event so you can be a hero in more ways than one (Please contact Amanda at 608.643.2363 to register for the blood drive).  We hope you can make it!
X-ALT-DESC;FMTTYPE=text/html:As you may be aware\, a group of volunteers has challenged the Sauk Prairie Community and surrounding areas to raise $100\,000 to sponsor an entire&nbsp\;Badger Honor Flight!&nbsp\; We knew we had to help and came up with a family fun event we are calling:<br />\n<br />\n<span style="color:rgb(255\, 0\, 0)"><span style="font-size:18px"><strong>Meet a Hero.&nbsp\; Honor a Hero.&nbsp\; Be a Hero.</strong></span></span><br />\n<br />\nJoin us for a family fun day!&nbsp\; Meet heroes of all kinds like soldiers\, veterans\, firefighters\, police officers\, and many more!&nbsp\; We will have great kids&#39\; activities\, food tents and musical guests to honor our veterans and their families.&nbsp\; Our raffle will have awesome items like an official NFL signed football from John Kuhn!&nbsp\; We are also organizing a blood drive on the day of the event so you can be a hero in more ways than one (Please contact Amanda at 608.643.2363 to register for the blood drive).&nbsp\; We hope you can make it!<br />\n&nbsp\;
LOCATION:Straight Forward - 615 Phillips Blvd.\, Sauk City WI 53583
UID:e.1184.8345
SEQUENCE:3
DTSTAMP:20260426T033620Z
URL:http://members.saukprairie.com/events/details/meet-a-hero-honor-a-hero-be-a-hero-a-fun-event-for-everyone-04-23-2016-8345
END:VEVENT

END:VCALENDAR
