BEGIN:VCALENDAR
VERSION:2.0
PRODID:-//ChamberMaster//Event Calendar 2.0//EN
METHOD:PUBLISH
X-PUBLISHED-TTL:P3D
REFRESH-INTERVAL:P3D
CALSCALE:GREGORIAN
BEGIN:VEVENT
DTSTART:20171110T000000Z
DTEND:20171110T010000Z
X-MICROSOFT-CDO-ALLDAYEVENT:FALSE
SUMMARY:Meet Author Darcy Miller and her Pigeons
DESCRIPTION:Have you ever heard of Birmingham Roller Pigeons? Meet local author Darcy Miller and her LIVE pigeons named Crow & Squirrel (like in the story)! She will share her book ROLL. Books will be available for purchase ($17.00 each) and signing.  This event is family-friendly. Kids will also make a well-known pigeon craft to hang in the library tree mural. Contact Beth at 643-8318 with questions.
X-ALT-DESC;FMTTYPE=text/html:Have you ever heard of Birmingham Roller Pigeons? Meet local author Darcy Miller and her LIVE pigeons named Crow &amp\; Squirrel (like in the story)! She will share her book <a href="http://launcher.linkcat.info/go.cgi?idx=nb&amp\;q=9780062461223">ROLL</a>. Books will be available for purchase ($17.00 each) and signing.&nbsp\; This event is family-friendly. Kids will also make a well-known pigeon craft to hang in the library tree mural. Contact Beth at 643-8318 with questions.
LOCATION:Ruth Culver Community Library 540 Water Street Prairie du Sac\, WI 53578
UID:e.1184.13970
SEQUENCE:3
DTSTAMP:20260424T205709Z
URL:http://members.saukprairie.com/events/details/meet-author-darcy-miller-and-her-pigeons-13970
END:VEVENT

END:VCALENDAR
