BEGIN:VCALENDAR
VERSION:2.0
PRODID:-//ChamberMaster//Event Calendar 2.0//EN
METHOD:PUBLISH
X-PUBLISHED-TTL:P3D
REFRESH-INTERVAL:P3D
CALSCALE:GREGORIAN
BEGIN:VEVENT
DTSTART:20191123T160000Z
DTEND:20191123T170000Z
X-MICROSOFT-CDO-ALLDAYEVENT:FALSE
SUMMARY:Meet Elsa from Frozen! Storytime and Pictures!
DESCRIPTION:Elsa will be stopping by Freedom Family Chiropractic as her big movie...FROZEN 2...premiers! This is a FREE event for all kiddos. The kiddos will have time to take pictures with Elsa and hear a story from her!\n\n\n\nRSVP to the event on Facebook at http://bit.ly/2pLN7An and follow Freedom Family Chiropractic - Sauk City on Facebook to hear more information about the event as we get closer!
X-ALT-DESC;FMTTYPE=text/html:<span style="color:rgb(29\, 33\, 41)\; font-family:helvetica\,arial\,sans-serif\; font-size:14px">Elsa will be stopping by Freedom Family Chiropractic as her big movie...FROZEN 2...premiers! This is a FREE event for all kiddos. The kiddos will have time to take pictures with Elsa and hear a story from her!<br />\n<br />\nRSVP to the event on Facebook at&nbsp\;<a href="http://bit.ly/2pLN7An">http://bit.ly/2pLN7An</a>&nbsp\;and follow&nbsp\;<a href="https://www.facebook.com/FreedomFamilyChiroWI">Freedom Family Chiropractic - Sauk City </a>on Facebook to hear more information about the event as we get closer!&nbsp\;</span><br />\n&nbsp\;
LOCATION:
UID:e.1184.23627
SEQUENCE:3
DTSTAMP:20260423T083747Z
URL:http://members.saukprairie.com/events/details/meet-elsa-from-frozen-storytime-and-pictures-23627
END:VEVENT

END:VCALENDAR
