BEGIN:VCALENDAR
VERSION:2.0
PRODID:-//ChamberMaster//Event Calendar 2.0//EN
METHOD:PUBLISH
X-PUBLISHED-TTL:P3D
REFRESH-INTERVAL:P3D
CALSCALE:GREGORIAN
BEGIN:VEVENT
DTSTART:20160726T160000Z
DTEND:20160726T190000Z
X-MICROSOFT-CDO-ALLDAYEVENT:FALSE
SUMMARY:Meet\, Greet and Let's Eat at LSM
DESCRIPTION:Join LSM Chiropractic on Tuesday\, July 26th\, 2016 between 11am and 2pm\n\n\n\nComplimentary Pulled Pork Lunch!\n\nTour LSM's Clinic\n\nDoor Prizes\n\n\n\nMeet the Doctors and Staff and learn what chiropractic care can do for you!
X-ALT-DESC;FMTTYPE=text/html:Join LSM Chiropractic on Tuesday\, July 26th\, 2016 between 11am and 2pm<br />\n<br />\nComplimentary Pulled Pork Lunch!<br />\nTour LSM&#39\;s Clinic<br />\nDoor Prizes<br />\n<br />\nMeet the Doctors and Staff and learn what chiropractic care can do for you!&nbsp\; &nbsp\;
LOCATION:707 Phillips Blvd. Sauk City
UID:e.1184.8828
SEQUENCE:3
DTSTAMP:20260425T224628Z
URL:http://members.saukprairie.com/events/details/meet-greet-and-let-s-eat-at-lsm-07-26-2016-8828
END:VEVENT

END:VCALENDAR
