BEGIN:VCALENDAR
VERSION:2.0
PRODID:-//ChamberMaster//Event Calendar 2.0//EN
METHOD:PUBLISH
X-PUBLISHED-TTL:P3D
REFRESH-INTERVAL:P3D
CALSCALE:GREGORIAN
BEGIN:VEVENT
DTSTART:20180324T143000Z
DTEND:20180324T183000Z
X-MICROSOFT-CDO-ALLDAYEVENT:FALSE
SUMMARY:Meet the Fisherman
DESCRIPTION:Wyttenbach Meats\n\n9.30am   1.30pm\n\nSaturday March 24th and 31st \n\n\n	Health and cooking techniques clarified.\n	Commercial fishing explained.\n	Alaska's enviable sustainable fisheries policies.\n	Stories of close calls with leviathans\, seduction by mermaids & kraken avoidance techniques*\n	Wild-caught Alaskan salmon & cod for sampling.\n	Come along for this fishy fest! \n\n \n\n*Bring a bucket of salt\, as you will need more than a pinch...
X-ALT-DESC;FMTTYPE=text/html:<strong><span style="font-family:copperplate gothic light\,sans-serif\;"><span style="font-size:40.0pt\;">Wyttenbach Meats</span></span></strong><br />\n<strong><span style="font-family:copperplate gothic light\,sans-serif\;"><span style="font-size:28.0pt\;">9.30am &ndash\; 1.30pm</span></span></strong><br />\n<strong><span style="font-family:copperplate gothic light\,sans-serif\;"><span style="font-size:25.0pt\;">Saturday March 24<sup>th</sup> and 31st </span></span></strong>\n\n<ul>\n	<li align="center" style="text-align:center\;"><strong><span style="font-family:copperplate gothic light\,sans-serif\;"><span style="font-size:14.0pt\;">Health and cooking techniques clarified.</span></span></strong></li>\n	<li align="center" style="text-align:center\;"><strong><span style="font-family:copperplate gothic light\,sans-serif\;"><span style="font-size:14.0pt\;">Commercial fishing explained.</span></span></strong></li>\n	<li align="center" style="text-align:center\;"><strong><span style="font-family:copperplate gothic light\,sans-serif\;"><span style="font-size:14.0pt\;">Alaska&#39\;s enviable sustainable fisheries policies.</span></span></strong></li>\n	<li align="center" style="text-align:center\;"><strong><span style="font-family:copperplate gothic light\,sans-serif\;"><span style="font-size:14.0pt\;">Stories of close calls with leviathans\, seduction by mermaids &amp\; kraken avoidance techniques*</span></span></strong></li>\n	<li align="center" style="text-align:center\;"><strong><span style="font-family:copperplate gothic light\,sans-serif\;"><span style="font-size:14.0pt\;">Wild-caught Alaskan salmon &amp\; cod for sampling.</span></span></strong></li>\n	<li align="center" style="text-align:center\;"><strong><span style="font-family:copperplate gothic light\,sans-serif\;"><span style="font-size:14.0pt\;">Come along for this fishy fest! </span></span></strong></li>\n</ul>\n&nbsp\;<br />\n<span style="font-family:copperplate gothic light\,sans-serif\;"><span style="font-size:9.0pt\;">*Bring a bucket of salt\, as you will need more than a pinch...</span></span>&nbsp\;
LOCATION:
UID:e.1184.17740
SEQUENCE:3
DTSTAMP:20260424T162108Z
URL:http://members.saukprairie.com/events/details/meet-the-fisherman-17740
END:VEVENT

END:VCALENDAR
