BEGIN:VCALENDAR
VERSION:2.0
PRODID:-//ChamberMaster//Event Calendar 2.0//EN
METHOD:PUBLISH
X-PUBLISHED-TTL:P3D
REFRESH-INTERVAL:P3D
CALSCALE:GREGORIAN
BEGIN:VEVENT
DTSTART:20200424T210000Z
DTEND:20200424T230000Z
X-MICROSOFT-CDO-ALLDAYEVENT:FALSE
SUMMARY:Member's Only Happy Hour
DESCRIPTION:Members Only Happy Hour\n\nat River Arts on Water downtown l 590 Water St\, Prairie du Sac\n\nWe are blessed with a beautiful deck that overlooks the Great Sauk State Trail and Wisconsin River and we want to share that with you!\n\nWhat should you do?  Grab a beverage of your choosing\, invite a friend or two\, and visit us.  Sounds simple right?  It is!!!\n\n\n\n \n\n*In case of bad weather\, this event will be canceled and posted on this page and our Facebook page.\n\n*Must be a member to participate\n\n*This event takes place outdoors. Please dress accordingly.\n\n*Beverages not provided.
X-ALT-DESC;FMTTYPE=text/html:<p><strong>Members Only Happy Hour</strong></p>\n\n<p><strong>at River Arts on Water downtown l 590 Water St\, Prairie du Sac</strong></p>\n\n<p>We are blessed with a beautiful deck that overlooks the Great Sauk State Trail and Wisconsin River and we want to share that with you!</p>\n\n<p>What should you do?&nbsp\; Grab a beverage of your choosing\, invite a friend or two\, and visit us.&nbsp\; Sounds simple right?&nbsp\; It is!!!<br />\n<br />\n&nbsp\;</p>\n\n<p><em>*In case of bad weather\, this event will be canceled and posted on this page and our Facebook page.</em></p>\n\n<p><em>*Must be a&nbsp\;<a href="https://www.riverartsinc.org/volunteer-contribute/" style="margin: 0px\; padding: 0px\; color: rgb(193\, 193\, 204)\;">member</a>&nbsp\;to participate</em></p>\n\n<p><em>*This event takes place outdoors. Please dress accordingly.</em></p>\n\n<p><em>*Beverages not provided.</em></p>\n
LOCATION:River Arts on Water downtown l 590 Water St\, Prairie du Sac
UID:e.1184.24074
SEQUENCE:3
DTSTAMP:20260423T011850Z
URL:http://members.saukprairie.com/events/details/member-s-only-happy-hour-24074
END:VEVENT

END:VCALENDAR
