BEGIN:VCALENDAR
VERSION:2.0
PRODID:-//ChamberMaster//Event Calendar 2.0//EN
METHOD:PUBLISH
X-PUBLISHED-TTL:P3D
REFRESH-INTERVAL:P3D
CALSCALE:GREGORIAN
BEGIN:VEVENT
DTSTART:20160530T153000Z
DTEND:20160530T170000Z
X-MICROSOFT-CDO-ALLDAYEVENT:FALSE
SUMMARY:Memorial Day Ceremony
DESCRIPTION:The Sauk City American Legion Kuoni Reuter Post 167 and Sauk Prairie Veterans of Foreign Wars Lachmund-Cramer Post 7694 will jointly hold Memorial Day services at 10:30 a.m. May 30 at the Prairie du Sac Cemetery. In case of inclement weather\, services will be held under the park shelter at VFW Park in Prairie du Sac.
X-ALT-DESC;FMTTYPE=text/html:<span style="color: rgb(68\, 68\, 68)\; font-family: 'Open Sans'\, sans-serif\; font-size: 16px\; line-height: 27px\;">The Sauk City American Legion Kuoni Reuter Post 167 and Sauk Prairie Veterans of Foreign Wars Lachmund-Cramer Post 7694 will jointly hold Memorial Day services at 10:30 a.m. May 30 at the Prairie du Sac Cemetery. In case of inclement weather\, services will be held under the park shelter at VFW Park in Prairie du Sac.</span>
LOCATION:
UID:e.1184.8572
SEQUENCE:3
DTSTAMP:20260426T032520Z
URL:http://members.saukprairie.com/events/details/memorial-day-ceremony-05-30-2016-8572
END:VEVENT

END:VCALENDAR
