BEGIN:VCALENDAR
VERSION:2.0
PRODID:-//ChamberMaster//Event Calendar 2.0//EN
METHOD:PUBLISH
X-PUBLISHED-TTL:P3D
REFRESH-INTERVAL:P3D
CALSCALE:GREGORIAN
BEGIN:VEVENT
DTSTART:20160529T160000Z
DTEND:20160529T190000Z
X-MICROSOFT-CDO-ALLDAYEVENT:FALSE
SUMMARY:Memorial Day Chicken BBQ
DESCRIPTION:Sauk Prairie Veterans of Foreign Wars Lachmund-Cramer Post 7694\, will host its 35th annual Chic-Nic Chicken Barbeque dinner at Veterans Memorial Park in Prairie du Sac at 11am to 2pm May 29th until sold out.\n\n\n\nDinner tickets are $9.50 each\, includes barbecued chicken half\, baked potato with sour cream\, baked beans\, coleslaw and will with butter. \n\n\n\nDine the the park/VFW Clubhouse or take out. Free local home delivery can be arranged by calling the VFW Post at 643-6847 after 10am on the day of the event. \n\n\n\nProceeds fun the VFW Post 7694 scholarship programs and donations to local charitites.
X-ALT-DESC;FMTTYPE=text/html:Sauk Prairie Veterans of Foreign Wars Lachmund-Cramer Post 7694\, will host its 35th annual Chic-Nic Chicken Barbeque dinner at Veterans Memorial Park in Prairie du Sac at 11am to 2pm May 29th until sold out.<br />\n<br />\nDinner tickets are $9.50 each\, includes barbecued chicken half\, baked potato with sour cream\, baked beans\, coleslaw and will with butter.&nbsp\;<br />\n<br />\nDine the the park/VFW Clubhouse or take out. Free local home delivery can be arranged by calling the VFW Post at 643-6847 after 10am on the day of the event.&nbsp\;<br />\n<br />\nProceeds&nbsp\;fun the VFW Post 7694 scholarship programs and donations to local charitites.&nbsp\;
LOCATION:
UID:e.1184.8573
SEQUENCE:3
DTSTAMP:20260426T020217Z
URL:http://members.saukprairie.com/events/details/memorial-day-chicken-bbq-05-29-2016-8573
END:VEVENT

END:VCALENDAR
