BEGIN:VCALENDAR
VERSION:2.0
PRODID:-//ChamberMaster//Event Calendar 2.0//EN
METHOD:PUBLISH
X-PUBLISHED-TTL:P3D
REFRESH-INTERVAL:P3D
CALSCALE:GREGORIAN
BEGIN:VEVENT
DTSTART:20190527T140000Z
DTEND:20190527T150000Z
X-MICROSOFT-CDO-ALLDAYEVENT:FALSE
SUMMARY:Memorial Day Services
DESCRIPTION:Sauk Prairie Veterans of Foreign Wars Lachmund-Cramer Post 7694 and Sauk City American Legion Kuoni-Reuter Post 167 present Memorial Day Services with Sauk Prairie High School Marching Band\n\n	Even Years will be held in Prairie du Sac\n	Odd Years will be held in Sauk City
X-ALT-DESC;FMTTYPE=text/html:Sauk Prairie Veterans of Foreign Wars Lachmund-Cramer Post 7694 and Sauk City American Legion Kuoni-Reuter Post 167 present Memorial Day Services with Sauk Prairie High School Marching Band\n<ul>\n	<li><span style="font-size:12px\;"><span style="color: rgb(68\, 68\, 68)\; font-family: &quot\;Open Sans&quot\;\, sans-serif\;">Even Years will be held in Prairie du Sac</span></span></li>\n	<li><span style="font-size:12px\;"><span style="color: rgb(68\, 68\, 68)\; font-family: &quot\;Open Sans&quot\;\, sans-serif\;">Odd Years will be held in Sauk City</span></span></li>\n</ul>\n
LOCATION:Sauk City Cemetery In case of inclement weather it will be under the shelter at Veterans Memorial Park\, 700 VFW Drive\, Prairie du Sac.
UID:e.1184.22386
SEQUENCE:3
DTSTAMP:20260423T184241Z
URL:http://members.saukprairie.com/events/details/memorial-day-services-22386
END:VEVENT

END:VCALENDAR
