BEGIN:VCALENDAR
VERSION:2.0
PRODID:-//ChamberMaster//Event Calendar 2.0//EN
METHOD:PUBLISH
X-PUBLISHED-TTL:P3D
REFRESH-INTERVAL:P3D
CALSCALE:GREGORIAN
BEGIN:VEVENT
DTSTART:20210531T140000Z
DTEND:20210531T150000Z
X-MICROSOFT-CDO-ALLDAYEVENT:FALSE
SUMMARY:Memorial Day Services
DESCRIPTION:Memorial Day Services will be well at the pavilion at the VFW Park.
X-ALT-DESC;FMTTYPE=text/html:Memorial Day Services will be well at the pavilion at the VFW Park.
LOCATION:Veterans Memorial Park\, 700 VFW Drive\, Prairie du Sac.
UID:e.1184.26642
SEQUENCE:3
DTSTAMP:20260422T051533Z
URL:http://members.saukprairie.com/events/details/memorial-day-services-26642
END:VEVENT

END:VCALENDAR
