BEGIN:VCALENDAR
VERSION:2.0
PRODID:-//ChamberMaster//Event Calendar 2.0//EN
METHOD:PUBLISH
X-PUBLISHED-TTL:P3D
REFRESH-INTERVAL:P3D
CALSCALE:GREGORIAN
BEGIN:VEVENT
DTSTART:20200314T140000Z
DTEND:20200314T160000Z
X-MICROSOFT-CDO-ALLDAYEVENT:FALSE
SUMMARY:Mending Day
DESCRIPTION:Every second Saturday of the month\, volunteers will be on hand for Mending Day. Bring in your loved but worn clothes for hemming\, mending and patching. It's free!\n\nSome restrictions apply and mending is done on a first come first served basis.\n\nDo you like to sew and mend and want to give back to the community?  We can use you! Contact the library for details.
X-ALT-DESC;FMTTYPE=text/html:<p>Every second Saturday of the month\, volunteers will be on hand for Mending Day. Bring in your loved but worn clothes for hemming\,&nbsp\;mending and patching. It&rsquo\;s free!</p>\n\n<p>Some restrictions apply and mending is done on a first come first served basis.</p>\n\n<p>Do you like to sew and mend and want to give back to the community?&nbsp\; We can use you! Contact the library for details.</p>\n
LOCATION:515 Water Street Sauk City\, WI 53583
UID:e.1184.23847
SEQUENCE:3
DTSTAMP:20260423T025602Z
URL:http://members.saukprairie.com/events/details/mending-day-03-14-2020-23847
END:VEVENT

END:VCALENDAR
