BEGIN:VCALENDAR
VERSION:2.0
PRODID:-//ChamberMaster//Event Calendar 2.0//EN
METHOD:PUBLISH
X-PUBLISHED-TTL:P3D
REFRESH-INTERVAL:P3D
CALSCALE:GREGORIAN
BEGIN:VEVENT
DTSTART:20191101T130000Z
DTEND:20191101T170000Z
X-MICROSOFT-CDO-ALLDAYEVENT:FALSE
SUMMARY:Mental Health First Aid Course
DESCRIPTION:Mental Health First Aid is a combined eight-hour course that teaches you how to help someone who is developing a mental health problem or experiencing a mental health crisis. This two-part training helps you identify\, understand\, and respond to signs of addictions and mental illnesses. This course is taught by a certified instructor and follows a national curriculum and teaching standards\, while emphasizing hope for recovery. Space is limited. Pre-registration required. If you have questions\, call 608-643-7648 or visit www.saukprairiehealthcare.org/mhfa
X-ALT-DESC;FMTTYPE=text/html:Mental Health First Aid is a combined eight-hour course that teaches you how to help someone who is developing a mental health problem or experiencing a mental health crisis. This two-part training helps you identify\, understand\, and respond to signs of addictions and mental illnesses. This course is taught by a certified instructor and follows a national curriculum and teaching standards\, while emphasizing hope for recovery. Space is limited. Pre-registration required. If you have questions\, call 608-643-7648 or visit www.saukprairiehealthcare.org/mhfa
LOCATION:Sauk Prairie Hospital Conference Center 260 26th Street Prairie du Sac
UID:e.1184.22584
SEQUENCE:3
DTSTAMP:20260423T095325Z
URL:http://members.saukprairie.com/events/details/mental-health-first-aid-course-22584
END:VEVENT

END:VCALENDAR
