BEGIN:VCALENDAR
VERSION:2.0
PRODID:-//ChamberMaster//Event Calendar 2.0//EN
METHOD:PUBLISH
X-PUBLISHED-TTL:P3D
REFRESH-INTERVAL:P3D
CALSCALE:GREGORIAN
BEGIN:VEVENT
DTSTART:20211210T140000Z
DTEND:20211210T220000Z
X-MICROSOFT-CDO-ALLDAYEVENT:FALSE
SUMMARY:Mental Health First Aid Course
DESCRIPTION:Mental Health First Aid is an 8-hour course that teaches you how to help someone who is developing a mental health problem or experiencing a mental health crisis. This training helps you identify\, understand\, and respond to signs of mental illnesses.\n\n\n\n This Dan Muxfeld Training LLC mental health course is taught by a certified instructor and follows a national curriculum and teaching standards while emphasizing hope for recovery. The course will be co-taught by Alison Kepner who is a Financial Office with Compeer and a Mental Health First Aid instructor. Alison works to promote resilience and strong mental health amongst hundreds of arm operators and their families in south-central Wisconsin. \n\n\n\nPre-registration required. Call Anne at 608-643-7687 or Foundation@SaukPrairieHealthcare.org
X-ALT-DESC;FMTTYPE=text/html:Mental Health First Aid is an 8-hour course that teaches you how to help someone who is developing a mental health problem or experiencing a mental health crisis. This training helps you identify\, understand\, and respond to signs of mental illnesses.<br />\n<br />\n&nbsp\;This Dan Muxfeld Training LLC mental health course is taught by a certified instructor and follows a national curriculum and teaching standards while emphasizing hope for recovery. The course will be co-taught by Alison Kepner who is a Financial Office with Compeer and a Mental Health First Aid instructor. Alison works to promote resilience and strong mental health amongst hundreds of arm operators and their families in south-central Wisconsin.&nbsp\;<br />\n<br />\nPre-registration required. Call Anne at 608-643-7687 or <a href="mailto:Foundation@SaukPrairieHealthcare.org?subject=Mental%20Health%20First%20Aid%20Course">Foundation@SaukPrairieHealthcare.org</a>
LOCATION:McFarlane Manufacturing Wisconsin Room 780 Carolina Street\, Sauk City
UID:e.1184.26924
SEQUENCE:3
DTSTAMP:20260421T185537Z
URL:http://members.saukprairie.com/events/details/mental-health-first-aid-course-26924
END:VEVENT

END:VCALENDAR
