BEGIN:VCALENDAR
VERSION:2.0
PRODID:-//ChamberMaster//Event Calendar 2.0//EN
METHOD:PUBLISH
X-PUBLISHED-TTL:P3D
REFRESH-INTERVAL:P3D
CALSCALE:GREGORIAN
BEGIN:VEVENT
DTSTART:20220224T151500Z
DTEND:20220224T231500Z
X-MICROSOFT-CDO-ALLDAYEVENT:FALSE
SUMMARY:Mental Health First Aid Course
DESCRIPTION:Mental Health First Aid is an 8-hour course that teaches you how to help someone who is developing a mental health problem or experiencing a mental health crisis. This training helps you identify\, understand\, and respond to signs of mental illnesses.\n\nThis Dan Muxfeld Training LLC mental health course is taught by a certified instructor and follows a national curriculum and teaching standards\, while emphasizing hope for recovery. The course will be co-taught by Alison Kepner\, who is a Financial Officer with Compeer and a Mental Health First Aid instructor. Alison works to promote resilience and strong mental health amongst hundreds of farm operators and their families in south central Wisconsin.\n\n\n\n9:15 a.m. - 5:15 p.m.\n\nPre-registration required. Call Anne at 608-643-7687 or Foundation@SaukPrairieHealthcare.org
X-ALT-DESC;FMTTYPE=text/html:<div class="kvgmc6g5 cxmmr5t8 oygrvhab hcukyx3x c1et5uql" style="overflow-wrap: break-word\; margin: 0px\; font-family: &quot\;Segoe UI Historic&quot\;\, &quot\;Segoe UI&quot\;\, Helvetica\, Arial\, sans-serif\; color: rgb(5\, 5\, 5)\; font-size: 15px\;">Mental Health First Aid is an 8-hour course that teaches you how to help someone who is developing a mental health problem or experiencing a mental health crisis. This training helps you identify\, understand\, and respond to signs of mental illnesses.</div>\n\n<div class="cxmmr5t8 oygrvhab hcukyx3x c1et5uql o9v6fnle" style="overflow-wrap: break-word\; margin: 0.5em 0px 0px\; font-family: &quot\;Segoe UI Historic&quot\;\, &quot\;Segoe UI&quot\;\, Helvetica\, Arial\, sans-serif\; color: rgb(5\, 5\, 5)\; font-size: 15px\;">This Dan Muxfeld Training LLC mental health course is taught by a certified instructor and follows a national curriculum and teaching standards\, while emphasizing hope for recovery. The course will be co-taught by Alison Kepner\, who is a Financial Officer with Compeer and a Mental Health First Aid instructor. Alison works to promote resilience and strong mental health amongst hundreds of farm operators and their families in south central Wisconsin.</div>\n\n<div class="cxmmr5t8 oygrvhab hcukyx3x c1et5uql o9v6fnle" style="overflow-wrap: break-word\; margin: 0.5em 0px 0px\; font-family: &quot\;Segoe UI Historic&quot\;\, &quot\;Segoe UI&quot\;\, Helvetica\, Arial\, sans-serif\; color: rgb(5\, 5\, 5)\; font-size: 15px\;"><br />\n9:15 a.m. - 5:15 p.m.</div>\n\n<div class="cxmmr5t8 oygrvhab hcukyx3x c1et5uql o9v6fnle" style="overflow-wrap: break-word\; margin: 0.5em 0px 0px\; font-family: &quot\;Segoe UI Historic&quot\;\, &quot\;Segoe UI&quot\;\, Helvetica\, Arial\, sans-serif\; color: rgb(5\, 5\, 5)\; font-size: 15px\;">Pre-registration required. Call Anne at 608-643-7687 or Foundation@SaukPrairieHealthcare.org</div>\n
LOCATION:George Culver Community Library 615 Phillips Blvd. Sauk City\, WI
UID:e.1184.27121
SEQUENCE:3
DTSTAMP:20260421T160914Z
URL:http://members.saukprairie.com/events/details/mental-health-first-aid-course-27121
END:VEVENT

END:VCALENDAR
