BEGIN:VCALENDAR
VERSION:2.0
PRODID:-//ChamberMaster//Event Calendar 2.0//EN
METHOD:PUBLISH
X-PUBLISHED-TTL:P3D
REFRESH-INTERVAL:P3D
CALSCALE:GREGORIAN
BEGIN:VEVENT
DTSTART:20160806T130000Z
DTEND:20160807T010000Z
X-MICROSOFT-CDO-ALLDAYEVENT:FALSE
SUMMARY:Merrimac Community Festival
DESCRIPTION:The Beaverland Must-Skis water ski performance team from Beaver Dam will be featured again at the Merrimac Community Festival\, scheduled for August 6\, 2016.   The Must-Skis will perform at 2pm and 5pm using a total of 2200 Evinrude horsepower and 50+ ski team members.  This team was ranked sixth in the nation in 2014 and the team continues to participate in two water ski tournaments every year\, as well as their regular scheduled shows.  Bring your lawn chairs to enjoy these shows at Merrimac's Memorial Park on the shoreline of beautiful Lake Wisconsin.\n\n \n\nThe Village of Merrimac Wisconsin will host its 11th annual Merrimac Community Festival on Saturday August 6.  This event will take place at Merrimac's Memorial Park on the shore of Lake Wisconsin and proceeds will be applied toward future improvements to Merrimac parks.  Merrimac is located on the eastern edge of Sauk County and is seven miles northwest of Lodi (across the ferry)\, eleven miles south of Baraboo\, eleven miles north of Prairie du Sac\, and fifteen miles southwest of Portage.\n\n \n\nPlanned festival activities will include two water ski shows\, a raffle\, food and beverage vendors\, a horseshoe pitching tournament\, chicken drop game\, kids' super hero fun run and kids' activity tent\, live music\, arts & crafts vendors and a spectacular view of beautiful Lake Wisconsin!
X-ALT-DESC;FMTTYPE=text/html:<span style="font-size:14px\;"><span style="font-family:arial\;">The Beaverland Must-Skis water ski performance team from Beaver Dam will be featured again at the Merrimac Community Festival\, scheduled for August 6\, 2016.&nbsp\;&nbsp\; The Must-Skis will perform at 2pm and 5pm using a total of 2200 Evinrude horsepower and 50+ ski team members.&nbsp\; This team was ranked sixth in the nation in 2014 and the team continues to participate in two water ski tournaments every year\, as well as their regular scheduled shows.&nbsp\; Bring your lawn chairs to enjoy these shows at Merrimac&rsquo\;s Memorial Park on the shoreline of beautiful Lake Wisconsin.<br />\n&nbsp\;<br />\nThe Village of Merrimac Wisconsin will host its 11<sup>th</sup> annual Merrimac Community Festival on Saturday August 6. &nbsp\;This event will take place at Merrimac&rsquo\;s Memorial Park on the shore of Lake Wisconsin and proceeds will be applied toward future improvements to Merrimac parks.&nbsp\; Merrimac is located on the eastern edge of Sauk County and is seven miles northwest of Lodi (across the ferry)\, eleven miles south of Baraboo\, eleven miles north of Prairie du Sac\, and fifteen miles southwest of Portage.<br />\n&nbsp\;<br />\nPlanned festival activities will include two water ski shows\, a raffle\, food and beverage vendors\, a horseshoe pitching tournament\, chicken drop game\, kids&rsquo\; super hero fun run and kids&rsquo\; activity tent\, live music\, arts &amp\; crafts vendors and a spectacular view of beautiful Lake Wisconsin!&nbsp\;</span></span>
LOCATION:Merrimac Memorial Park
UID:e.1184.6863
SEQUENCE:3
DTSTAMP:20260425T210155Z
URL:http://members.saukprairie.com/events/details/merrimac-community-festival-08-06-2016-6863
END:VEVENT

END:VCALENDAR
