BEGIN:VCALENDAR
VERSION:2.0
PRODID:-//ChamberMaster//Event Calendar 2.0//EN
METHOD:PUBLISH
X-PUBLISHED-TTL:P3D
REFRESH-INTERVAL:P3D
CALSCALE:GREGORIAN
BEGIN:VEVENT
DTSTART;VALUE=DATE:20230805
DTEND;VALUE=DATE:20230806
TRANSP:TRANSPARENT
X-MICROSOFT-CDO-ALLDAYEVENT:TRUE
SUMMARY:Merrimac Community Festival
DESCRIPTION:The Annual Merrimac Community Festival on Saturday\, August 5. This event will take place at Merrimac's Memorial Park on the shore of Lake Wisconsin and proceeds will be applied toward future improvements to Merrimac parks. Events include: - 5k Color Fun Run - Live music from local and national touring bands all day! - Two water ski shows - The Renowned Merrimac Chicken Drop - Kids tent with face painting and games Horseshoes and Bag Toss Tournament Sponsored by Merrimac Fire & Rescue - Food vendors all day\, food trucks at night - And more! Merrimac is located on the eastern edge of Sauk County and is seven miles northwest of Lodi (across the ferry)\, eleven miles south of Baraboo\, eleven miles north of Prairie du Sac\, and fifteen miles southwest of Portage.
X-ALT-DESC;FMTTYPE=text/html:The Annual Merrimac Community Festival on Saturday\, August 5. This event will take place at Merrimac&rsquo\;s Memorial Park on the shore of Lake Wisconsin and proceeds will be applied toward future improvements to Merrimac parks. Events include: - 5k Color Fun Run - Live music from local and national touring bands all day! - Two water ski shows - The Renowned Merrimac Chicken Drop - Kids tent with face painting and games Horseshoes and Bag Toss Tournament Sponsored by Merrimac Fire &amp\; Rescue - Food vendors all day\, food trucks at night - And more! Merrimac is located on the eastern edge of Sauk County and is seven miles northwest of Lodi (across the ferry)\, eleven miles south of Baraboo\, eleven miles north of Prairie du Sac\, and fifteen miles southwest of Portage.
LOCATION:Merrimac Memorial Park 145 Front St\, Merrimac\, WI 53561
UID:e.1184.30704
SEQUENCE:3
DTSTAMP:20260420T090702Z
URL:http://members.saukprairie.com/events/details/merrimac-community-festival-30704
END:VEVENT

END:VCALENDAR
