BEGIN:VCALENDAR
VERSION:2.0
PRODID:-//ChamberMaster//Event Calendar 2.0//EN
METHOD:PUBLISH
X-PUBLISHED-TTL:P3D
REFRESH-INTERVAL:P3D
CALSCALE:GREGORIAN
BEGIN:VEVENT
DTSTART;VALUE=DATE:20180804
DTEND;VALUE=DATE:20180805
TRANSP:TRANSPARENT
X-MICROSOFT-CDO-ALLDAYEVENT:TRUE
SUMMARY:Merrimac Community Festival 5K
DESCRIPTION:Join us for the second Annual Merrimac Community Festival 5K!\n\n\n\nCost: $15 pre-register/$20 day of Race\n\nLocation: Merrimac Baseball Diamond\, right across the Street from River Park (Memorial Park)\n\n\n\nThere also is a free kids superhero fun run right after the 5K\, great for kids ages 3-12!\n\n\n\nFor more information visit us at www.facebook.com/merrimac5k\n\n\n\nemail us at 5k@merr.com with any questions.
X-ALT-DESC;FMTTYPE=text/html:Join us for the second Annual&nbsp\;Merrimac Community Festival 5K!<br />\n<br />\nCost: $15 pre-register/$20 day of Race<br />\nLocation: Merrimac Baseball Diamond\, right across the Street from River Park (Memorial Park)<br />\n<br />\nThere also is a free kids superhero fun run right after the 5K\, great for kids ages 3-12!<br />\n<br />\nFor more information visit us at www.facebook.com/merrimac5k<br />\n<br />\nemail us at 5k@merr.com with any questions.
LOCATION:August 4 Registration: 8am Race Start: 9am
UID:e.1184.18384
SEQUENCE:3
DTSTAMP:20260424T083033Z
URL:http://members.saukprairie.com/events/details/merrimac-community-festival-5k-18384
END:VEVENT

END:VCALENDAR
