BEGIN:VCALENDAR
VERSION:2.0
PRODID:-//ChamberMaster//Event Calendar 2.0//EN
METHOD:PUBLISH
X-PUBLISHED-TTL:P3D
REFRESH-INTERVAL:P3D
CALSCALE:GREGORIAN
BEGIN:VEVENT
DTSTART;VALUE=DATE:20180707
DTEND;VALUE=DATE:20180708
TRANSP:TRANSPARENT
X-MICROSOFT-CDO-ALLDAYEVENT:TRUE
SUMMARY:Merrimac Firemen's Fireworks
DESCRIPTION:The fireworks are held at S7116 Bluff Road\, Merrimac Gates open at 5:00 pm. Fireworks will be held at dusk. \n\n\n\n \n\nFireworks are July 7th
X-ALT-DESC;FMTTYPE=text/html:<p style="background: white\; margin: 0in 0in 0pt\;"><span style="color: black\; font-family: &quot\;Helvetica&quot\;\,&quot\;sans-serif&quot\;\; mso-fareast-font-family: &quot\;Times New Roman&quot\;\;"><font size="3">The fireworks are held at S7116 Bluff Road\, Merrimac Gates open at 5:00 pm. Fireworks will be held at dusk. </font></span><br />\n<br />\n&nbsp\;</p>\n\n<p style="background: white\; margin: 0in 0in 0pt\;"><span style="color: black\; font-family: &quot\;Helvetica&quot\;\,&quot\;sans-serif&quot\;\; mso-fareast-font-family: &quot\;Times New Roman&quot\;\;"><font size="3">Fireworks are July 7th</font></span></p>\n
LOCATION:
UID:e.1184.19431
SEQUENCE:3
DTSTAMP:20260424T100617Z
URL:http://members.saukprairie.com/events/details/merrimac-firemen-s-fireworks-07-07-2018-19431
END:VEVENT

END:VCALENDAR
