BEGIN:VCALENDAR
VERSION:2.0
PRODID:-//ChamberMaster//Event Calendar 2.0//EN
METHOD:PUBLISH
X-PUBLISHED-TTL:P3D
REFRESH-INTERVAL:P3D
CALSCALE:GREGORIAN
BEGIN:VEVENT
DTSTART;VALUE=DATE:20210704
DTEND;VALUE=DATE:20210705
TRANSP:TRANSPARENT
X-MICROSOFT-CDO-ALLDAYEVENT:TRUE
SUMMARY:Merrimac Fireworks
DESCRIPTION:Join us for Merrimac's Annual Fourth of July Firework Display!\n\n\n\nNo grills allowed.
X-ALT-DESC;FMTTYPE=text/html:Join us for Merrimac&#39\;s Annual Fourth of July Firework Display!<br />\n<br />\nNo grills allowed.
LOCATION:S7116 Bluff Road\, Merrimac\, WI
UID:e.1184.26677
SEQUENCE:3
DTSTAMP:20260422T021023Z
URL:http://members.saukprairie.com/events/details/merrimac-fireworks-26677
END:VEVENT

END:VCALENDAR
