BEGIN:VCALENDAR
VERSION:2.0
PRODID:-//ChamberMaster//Event Calendar 2.0//EN
METHOD:PUBLISH
X-PUBLISHED-TTL:P3D
REFRESH-INTERVAL:P3D
CALSCALE:GREGORIAN
BEGIN:VEVENT
DTSTART;VALUE=DATE:20240706
DTEND;VALUE=DATE:20240707
TRANSP:TRANSPARENT
X-MICROSOFT-CDO-ALLDAYEVENT:TRUE
SUMMARY:Merrimac Fireworks
DESCRIPTION:Mark your calendars: Fireworks July 6 and a new location!\n\n \n\n\n\nWe are so excited to share we have a new location this year. Our annual fireworks will be on the property on the corner of Hwy 78 and Idlewild Road. Just follow the signs and flags to the gates that lead you to the ample parking area.\n\n \n\n\n\nOnce again $5 a carload at the gate. Gates open at 5 pm. Concessions available.\n\n \n\n\n\nBring your blankets and lawn chairs but please leave YOUR fireworks and grills at home.\n\n \n\n\n\nSee you on the 6th
X-ALT-DESC;FMTTYPE=text/html:<div>\n<div dir="auto">Mark your calendars: Fireworks July 6 and a new location!<br />\n&nbsp\;</div>\n</div>\n\n<div>\n<div dir="auto">We are so excited to share we have a new location this year. Our annual fireworks will be on the property on the corner of Hwy 78 and Idlewild Road. Just follow the signs and flags to the gates that lead you to the ample parking area.<br />\n&nbsp\;</div>\n</div>\n\n<div>\n<div dir="auto">Once again $5 a carload at the gate. Gates open at 5 pm. Concessions available.<br />\n&nbsp\;</div>\n</div>\n\n<div>\n<div dir="auto">Bring your blankets and lawn chairs but please leave YOUR fireworks and grills at home.<br />\n&nbsp\;</div>\n</div>\n\n<div>\n<div dir="auto">See you on the 6th</div>\n</div>\n
LOCATION:Corner of Hwy 78 and Idlewild Rd.
UID:e.1184.32849
SEQUENCE:3
DTSTAMP:20260419T175152Z
URL:http://members.saukprairie.com/events/details/merrimac-fireworks-32849
END:VEVENT

END:VCALENDAR
