BEGIN:VCALENDAR
VERSION:2.0
PRODID:-//ChamberMaster//Event Calendar 2.0//EN
METHOD:PUBLISH
X-PUBLISHED-TTL:P3D
REFRESH-INTERVAL:P3D
CALSCALE:GREGORIAN
BEGIN:VEVENT
DTSTART:20230513T130000Z
DTEND:20230513T170000Z
X-MICROSOFT-CDO-ALLDAYEVENT:FALSE
SUMMARY:Merrimac Preserve Field Trip
DESCRIPTION:Tentative meeting place: Main parking lot at S6888 Hwy 113\, Merrimac. Please check the library website and/or Facebook page as we get closer to the date to confirm. \n\nA follow-up to Mike's lecture on Sauk County's Natural Areas\, join Mike and Jessica Renley to explore some of the ecosystems found at this unique property\, managed by the Riverland Conservancy. The event starts at 8am and will continue through noon\, but join us for as long as you please! This event is sponsored by the Rooted in Conservation Fund through the Community Foundation of South Central Wisconsin.
X-ALT-DESC;FMTTYPE=text/html:Tentative meeting place: Main parking lot at S6888 Hwy 113\, Merrimac. Please check the library website and/or Facebook page as we get closer to the date to confirm.&nbsp\;<br />\nA follow-up to Mike&#39\;s lecture on Sauk County&#39\;s Natural Areas\, join Mike and Jessica Renley to explore some of the ecosystems found at this unique property\, managed by the Riverland Conservancy. The event starts at 8am and will continue through noon\, but join us for as long as you please! This event is sponsored by the Rooted in Conservation Fund through the Community Foundation of South Central Wisconsin.
LOCATION:Merrimac Preserve Main parking lot at S6888 Hwy 113\, Merrimac\, WI
UID:e.1184.30726
SEQUENCE:3
DTSTAMP:20260420T131948Z
URL:http://members.saukprairie.com/events/details/merrimac-preserve-field-trip-30726
END:VEVENT

END:VCALENDAR
