BEGIN:VCALENDAR
VERSION:2.0
PRODID:-//ChamberMaster//Event Calendar 2.0//EN
METHOD:PUBLISH
X-PUBLISHED-TTL:P3D
REFRESH-INTERVAL:P3D
CALSCALE:GREGORIAN
BEGIN:VEVENT
DTSTART:20211212T230000Z
DTEND:20211222T040000Z
X-MICROSOFT-CDO-ALLDAYEVENT:FALSE
SUMMARY:Merry & Bright Drive Thru Light Tour
DESCRIPTION:Enjoy the spirit of the season! Take a drive and enjoy the beautiful Holiday lights of Sauk Prairie! Families within Sauk Prairie will be registering their homes for a Holiday Light Tour! During the tour dates\, we will provide you a map and list of homes who are participating. Take a drive with your friends and family so you can vote on the best Holiday display!
X-ALT-DESC;FMTTYPE=text/html:Enjoy the spirit of the season! Take a drive and enjoy the beautiful Holiday lights of Sauk Prairie! Families within Sauk Prairie will be registering their homes for a Holiday Light Tour! During the tour dates\, we will provide you a map and list of homes who are participating. Take a drive with your friends and family so you can vote on the best Holiday display!
LOCATION:Sauk Prairie
UID:e.1184.26921
SEQUENCE:3
DTSTAMP:20260421T190413Z
URL:http://members.saukprairie.com/events/details/merry-bright-drive-thru-light-tour-26921
END:VEVENT

END:VCALENDAR
