BEGIN:VCALENDAR
VERSION:2.0
PRODID:-//ChamberMaster//Event Calendar 2.0//EN
METHOD:PUBLISH
X-PUBLISHED-TTL:P3D
REFRESH-INTERVAL:P3D
CALSCALE:GREGORIAN
BEGIN:VEVENT
DTSTART;VALUE=DATE:20231215
DTEND;VALUE=DATE:20231226
TRANSP:TRANSPARENT
X-MICROSOFT-CDO-ALLDAYEVENT:TRUE
SUMMARY:Merry & Bright Holiday Light Tour
DESCRIPTION:Gather up your friends and family in the car and take the driving light tour of Sauk Prairie area homes! Head to our website where you will find a map and addresses of homes participating in this years Holiday light contest! Once you view all the homes\, head back to our website and place your vote! The top three homes will all receive a prize! Join in the fun and take in the beauty of the Holiday lights this season.
X-ALT-DESC;FMTTYPE=text/html:Gather up your friends and family in the car and take the driving light tour of Sauk Prairie area homes! Head to our website where you will find a map and addresses of homes participating in this years Holiday light contest! Once you view all the homes\, head back to our website and place your vote! The top three homes will all receive a prize! Join in the fun and take in the beauty of the Holiday lights this season.
LOCATION:Sauk Prairie and Surrounding Communities
UID:e.1184.31220
SEQUENCE:3
DTSTAMP:20260420T033108Z
URL:http://members.saukprairie.com/events/details/merry-bright-holiday-light-tour-31220
END:VEVENT

END:VCALENDAR
