BEGIN:VCALENDAR
VERSION:2.0
PRODID:-//ChamberMaster//Event Calendar 2.0//EN
METHOD:PUBLISH
X-PUBLISHED-TTL:P3D
REFRESH-INTERVAL:P3D
CALSCALE:GREGORIAN
BEGIN:VEVENT
DTSTART:20201212T220000Z
DTEND:20201221T040000Z
X-MICROSOFT-CDO-ALLDAYEVENT:FALSE
SUMMARY:Merry & Bright Sauk Prairie
DESCRIPTION:Show the spirit of the season by being a part of Sauk Prairies drive through light tour! Decorate your house/yard for all of Sauk Prairie to enjoy. Please email community.center@saukprairieschools.org if you would like your house added to the list/map of houses on the tour. Voting will be done by families driving by the houses and viewing your lights December 12 - 20. The house with the most votes will win a prize! Help us light up Sauk Prairie this Holiday Season!
X-ALT-DESC;FMTTYPE=text/html:Show the spirit of the season by being a part of Sauk Prairies drive through light tour! Decorate your house/yard for all of Sauk Prairie to enjoy. Please email community.center@saukprairieschools.org if you would like your house added to the list/map of houses on the tour. Voting will be done by families driving by the houses and viewing your lights December 12 - 20. The house with the most votes will win a prize! Help us light up Sauk Prairie this Holiday Season!
LOCATION:Sauk Prairie and Surrounding Community
UID:e.1184.26144
SEQUENCE:3
DTSTAMP:20260422T121005Z
URL:http://members.saukprairie.com/events/details/merry-bright-sauk-prairie-26144
END:VEVENT

END:VCALENDAR
