BEGIN:VCALENDAR
VERSION:2.0
PRODID:-//ChamberMaster//Event Calendar 2.0//EN
METHOD:PUBLISH
X-PUBLISHED-TTL:P3D
REFRESH-INTERVAL:P3D
CALSCALE:GREGORIAN
BEGIN:VEVENT
DTSTART:20200501T000000Z
DTEND:20200501T020000Z
X-MICROSOFT-CDO-ALLDAYEVENT:FALSE
SUMMARY:Merry Weathers at Vintage Brewing
DESCRIPTION:Merry Weathers is a Folk Americana Wisconsin band led by Stacy Hanson. They are supported by the core members Jym & Laura Farley who play electric guitar and upright bass. Their authentic style and charm come through in their songs and performances.
X-ALT-DESC;FMTTYPE=text/html:<div class="_63eu" style="box-sizing: border-box\; font-size: 14px\; max-height: 260px\; overflow: hidden\; padding: 12px\; overflow-wrap: break-word\; font-family: Helvetica\, Arial\, sans-serif\; color: rgb(29\, 33\, 41)\;">\n<div class="_63ew" data-testid="event-permalink-details" style="font-family: inherit\;"><span style="color: rgb(29\, 33\, 41)\; font-family: Helvetica\, Arial\, sans-serif\; font-size: 14px\; white-space: pre-wrap\;">Merry Weathers is a Folk Americana Wisconsin band led by Stacy Hanson. They are supported by the core members Jym &amp\; Laura Farley who play electric guitar and upright bass. Their authentic style and charm come through in their songs and performances.</span></div>\n\n<div>&nbsp\;</div>\n</div>\n
LOCATION:Vintage Brewing Co. 600 Water St. Sauk City
UID:e.1184.24096
SEQUENCE:3
DTSTAMP:20260423T012101Z
URL:http://members.saukprairie.com/events/details/merry-weathers-at-vintage-brewing-24096
END:VEVENT

END:VCALENDAR
