BEGIN:VCALENDAR
VERSION:2.0
PRODID:-//ChamberMaster//Event Calendar 2.0//EN
METHOD:PUBLISH
X-PUBLISHED-TTL:P3D
REFRESH-INTERVAL:P3D
CALSCALE:GREGORIAN
BEGIN:VEVENT
DTSTART:20231014T133000Z
DTEND:20231014T170000Z
X-MICROSOFT-CDO-ALLDAYEVENT:FALSE
SUMMARY:Meyer Oak Grove Market
DESCRIPTION:Starting Saturday\, May 27th Meyer Oak Grove Market will be in Sauk City from 8:30AM to Noon and every Saturday there after until October 14th! Walk or bike or bring a blanket and chairs\, this spacious park is a wonderful setting to bring local goods (produce\, jams\, flowers\, cold pressed organic juices\, baked good\, coffee\, food trucks\, etc.) from Sauk Prairie to our Sauk Prairie Community.\n\n\n\nIf you're interested in being apart of the market selling your goods please email meyeroakmarket@gmail.com for more info.
X-ALT-DESC;FMTTYPE=text/html:<span style="font-size:14px\;"><span style="font-family:arial\;"><span style="color: rgb(5\, 5\, 5)\;">Starting Saturday\, May 27th Meyer Oak Grove Market will be in Sauk City from 8:30AM to Noon and every Saturday there after until October 14th! Walk or bike or bring a blanket and chairs\, this spacious park is a wonderful setting to bring local goods (produce\, jams\, flowers\, cold pressed organic juices\, baked good\, coffee\, food trucks\, etc.) from Sauk Prairie to our Sauk Prairie Community.</span><br style="color: rgb(5\, 5\, 5)\; font-family: &quot\;Segoe UI Historic&quot\;\, &quot\;Segoe UI&quot\;\, Helvetica\, Arial\, sans-serif\; font-size: 15px\;" />\n<br style="color: rgb(5\, 5\, 5)\; font-family: &quot\;Segoe UI Historic&quot\;\, &quot\;Segoe UI&quot\;\, Helvetica\, Arial\, sans-serif\; font-size: 15px\;" />\n<span style="color: rgb(5\, 5\, 5)\;">If you&#39\;re interested in being apart of the market selling your goods please email </span></span></span><span style="font-family:arial\,sans-serif\;"><span style="font-size:10.0pt\;"><a href="mailto:meyeroakmarket@gmail.com?subject=Meyer%20Oak%20Grove%20Market">meyeroakmarket@gmail.com</a></span></span><span style="font-size:14px\;"><span style="font-family:arial\;"><span style="color: rgb(5\, 5\, 5)\;"> for more info.</span></span></span>
LOCATION:Meyer Oak Grove Park Sauk City
UID:e.1184.30701
SEQUENCE:3
DTSTAMP:20260420T074117Z
URL:http://members.saukprairie.com/events/details/meyer-oak-grove-market-10-14-2023-30701
END:VEVENT

END:VCALENDAR
