BEGIN:VCALENDAR
VERSION:2.0
PRODID:-//ChamberMaster//Event Calendar 2.0//EN
METHOD:PUBLISH
X-PUBLISHED-TTL:P3D
REFRESH-INTERVAL:P3D
CALSCALE:GREGORIAN
BEGIN:VEVENT
DTSTART;VALUE=DATE:20221015
DTEND;VALUE=DATE:20221016
TRANSP:TRANSPARENT
X-MICROSOFT-CDO-ALLDAYEVENT:TRUE
SUMMARY:Meyer Oak Grove Market End of the Year Celebration
DESCRIPTION:Please join us at the Vines Music Venue to celebrate the end of another remarkable year of The Meyer Oak Grove Market. Bring your own food\, drinks\, and lawn chairs to enjoy music from local musicians\, Signature Peace\, and The Marques Morel Trio. \n\n\n\nPre-Purchase Tickets at:\n\nC2 Juicery\n\n545 Water Street\, Prairie du Sac or available on site day of sho-
X-ALT-DESC;FMTTYPE=text/html:Please join us at the Vines Music Venue to celebrate the end of another remarkable year of The Meyer Oak Grove Market. Bring your own food\, drinks\, and lawn chairs to enjoy music from local musicians\, Signature Peace\, and The Marques Morel Trio.&nbsp\;<br />\n<br />\nPre-Purchase Tickets at:<br />\nC2 Juicery<br />\n545 Water Street\, Prairie du Sac or available on site day of sho-
LOCATION:The Vines Music Venue W13002 Schoepp Rd. Sauk City\, WI 53583
UID:e.1184.28731
SEQUENCE:3
DTSTAMP:20260421T033659Z
URL:http://members.saukprairie.com/events/details/meyer-oak-grove-market-end-of-the-year-celebration-28731
END:VEVENT

END:VCALENDAR
