BEGIN:VCALENDAR
VERSION:2.0
PRODID:-//ChamberMaster//Event Calendar 2.0//EN
METHOD:PUBLISH
X-PUBLISHED-TTL:P3D
REFRESH-INTERVAL:P3D
CALSCALE:GREGORIAN
BEGIN:VEVENT
DTSTART;VALUE=DATE:20161007
DTEND;VALUE=DATE:20161010
TRANSP:TRANSPARENT
X-MICROSOFT-CDO-ALLDAYEVENT:TRUE
SUMMARY:Mid-Continent Railway - Autumn Color
DESCRIPTION:There's nothing comparable to enjoying the beautiful\, brilliant hues of autumn in the rural Sauk County countryside from the comfort of our restored\, vintage passenger cars. Join us for "leaf-peeping" in style along the unspoiled right-of-way of our historic former Chicago & North Western rail line.\n\n\n\nCoach/Caboose Service\n\nFriday: 11:30am & 1pm\n\nSat. & Sun. 11am\, 1pm\, & 2:30pm\n\n\n\nFirst Class Service\n\nSat. & Sun. 11:40am & 1:10pm\n\n\n\nElegant Dinner Train\n\nSat 5:30pm\n\nNo discount or coupons. Groups by appointment.
X-ALT-DESC;FMTTYPE=text/html:<p style="background: white\;"><font color="#000000" face="Calibri\, sans-serif" size="3"><span style="line-height: 25.6px\;">There&#39\;s nothing comparable to enjoying the beautiful\, brilliant hues of autumn in the rural Sauk County countryside from the comfort of our restored\, vintage passenger cars. Join us for &quot\;leaf-peeping&quot\; in style along the unspoiled right-of-way of our historic former Chicago &amp\; North Western rail line.<br />\n<br />\nCoach/Caboose Service<br />\nFriday: 11:30am &amp\; 1pm<br />\nSat. &amp\; Sun. 11am\, 1pm\, &amp\; 2:30pm<br />\n<br />\nFirst Class Service<br />\nSat. &amp\; Sun. 11:40am &amp\; 1:10pm<br />\n<br />\nElegant Dinner Train<br />\nSat 5:30pm<br />\nNo discount or coupons. Groups by appointment.</span></font></p>\n
LOCATION:E8948 Diamond Hill Rd\, North Freedom\, WI 53951
UID:e.1184.8452
SEQUENCE:3
DTSTAMP:20260425T174011Z
URL:http://members.saukprairie.com/events/details/mid-continent-railway-autumn-color-10-07-2016-8452
END:VEVENT

END:VCALENDAR
