BEGIN:VCALENDAR
VERSION:2.0
PRODID:-//ChamberMaster//Event Calendar 2.0//EN
METHOD:PUBLISH
X-PUBLISHED-TTL:P3D
REFRESH-INTERVAL:P3D
CALSCALE:GREGORIAN
BEGIN:VEVENT
DTSTART;VALUE=DATE:20171006
DTEND;VALUE=DATE:20171009
TRANSP:TRANSPARENT
X-MICROSOFT-CDO-ALLDAYEVENT:TRUE
SUMMARY:Mid-Continent Railway - Autumn Color
DESCRIPTION:There's nothing comparable to enjoying the beautiful\, brilliant hues of autumn in the rural Sauk County countryside from the comfort of our restored\, vintage passenger cars. Join us for "leaf-peeping" in style along the unspoiled right-of-way of our historic former Chicago & North Western rail line.
X-ALT-DESC;FMTTYPE=text/html:<p style="background: white\;"><font color="#000000" face="Calibri\, sans-serif" size="3"><span style="line-height: 25.6px\;">There&#39\;s nothing comparable to enjoying the beautiful\, brilliant hues of autumn in the rural Sauk County countryside from the comfort of our restored\, vintage passenger cars. Join us for &quot\;leaf-peeping&quot\; in style along the unspoiled right-of-way of our historic former Chicago &amp\; North Western rail line.</span></font></p>\n
LOCATION:E8948 Diamond Hill Rd\, North Freedom\, WI 53951
UID:e.1184.13953
SEQUENCE:3
DTSTAMP:20260425T000414Z
URL:http://members.saukprairie.com/events/details/mid-continent-railway-autumn-color-13953
END:VEVENT

END:VCALENDAR
