BEGIN:VCALENDAR
VERSION:2.0
PRODID:-//ChamberMaster//Event Calendar 2.0//EN
METHOD:PUBLISH
X-PUBLISHED-TTL:P3D
REFRESH-INTERVAL:P3D
CALSCALE:GREGORIAN
BEGIN:VEVENT
DTSTART;VALUE=DATE:20171014
DTEND;VALUE=DATE:20171016
TRANSP:TRANSPARENT
X-MICROSOFT-CDO-ALLDAYEVENT:TRUE
SUMMARY:Mid-Continent Railway - Pumpkin Special
DESCRIPTION:Finding your Halloween pumpkin is more fun at Mid-Continent Railway Museum. Climb aboard the Pumpkin Special and make your way to Quartzite Lake where pumpkins from a local grower await your arrival. The conductor will help you load your pumpkin for the return to North Freedom
X-ALT-DESC;FMTTYPE=text/html:<p style="background: white\;"><span style="color: black\; font-family: &quot\;Calibri&quot\;\,&quot\;sans-serif&quot\;\;"><font size="3">Finding your Halloween pumpkin is more fun at Mid-Continent Railway Museum. Climb aboard the Pumpkin Special and make your way to Quartzite Lake where pumpkins from a local grower await your arrival. The conductor will help you load your pumpkin for the return to North Freedom</font></span></p>\n\n<p style="background: white\;"><span style="color: black\; font-family: &quot\;Calibri&quot\;\,&quot\;sans-serif&quot\;\;"><font size="3"><o:p></o:p></font></span></p>\n
LOCATION:E8948 Diamond Hill Rd\, North Freedom\, WI 53951
UID:e.1184.13954
SEQUENCE:3
DTSTAMP:20260425T000326Z
URL:http://members.saukprairie.com/events/details/mid-continent-railway-pumpkin-special-13954
END:VEVENT

END:VCALENDAR
