BEGIN:VCALENDAR
VERSION:2.0
PRODID:-//ChamberMaster//Event Calendar 2.0//EN
METHOD:PUBLISH
X-PUBLISHED-TTL:P3D
REFRESH-INTERVAL:P3D
CALSCALE:GREGORIAN
BEGIN:VEVENT
DTSTART;VALUE=DATE:20161126
DTEND;VALUE=DATE:20161128
TRANSP:TRANSPARENT
X-MICROSOFT-CDO-ALLDAYEVENT:TRUE
SUMMARY:Mid-Continent Railway - Santa Express
DESCRIPTION:Santa will be on board bringing good cheer!\n\n                Coach Schedule:\n\n                Saturday & Sunday: 10:00am\, 11:30am\, 1:00pm and 2:30pm
X-ALT-DESC;FMTTYPE=text/html:<p style="background: white\;"><span style="color: black\; font-family: &quot\;Calibri&quot\;\,&quot\;sans-serif&quot\;\;"><font size="3">Santa will be on board bringing good cheer!</font></span></p>\n\n<p style="background: white\;"><span style="color: black\; font-family: &quot\;Calibri&quot\;\,&quot\;sans-serif&quot\;\;"><font size="3">&nbsp\;&nbsp\;&nbsp\;&nbsp\;&nbsp\;&nbsp\;&nbsp\;&nbsp\;&nbsp\;&nbsp\;&nbsp\;&nbsp\;&nbsp\;&nbsp\;&nbsp\;&nbsp\;<strong><span style="font-family: &quot\;Calibri&quot\;\,&quot\;sans-serif&quot\;\;">Coach Schedule:</span></strong></font></span></p>\n\n<p style="background: white\;"><span style="color: black\; font-family: &quot\;Calibri&quot\;\,&quot\;sans-serif&quot\;\;"><font size="3">&nbsp\;&nbsp\;&nbsp\;&nbsp\;&nbsp\;&nbsp\;&nbsp\;&nbsp\;&nbsp\;&nbsp\;&nbsp\;&nbsp\;&nbsp\;&nbsp\;&nbsp\;&nbsp\;<strong><span style="font-family: &quot\;Calibri&quot\;\,&quot\;sans-serif&quot\;\;">Saturday &amp\; Sunday: </span></strong>10:00am\, 11:30am\, 1:00pm and 2:</font></span><span style="color: black\; font-family: &quot\;Calibri&quot\;\,&quot\;sans-serif&quot\;\;"><font size="3">30</font></span><span style="color: black\; font-family: &quot\;Calibri&quot\;\,&quot\;sans-serif&quot\;\;"><font size="3">pm</font></span></p>\n\n<p style="background: white\;"><span style="color: black\; font-family: &quot\;Calibri&quot\;\,&quot\;sans-serif&quot\;\;"><font size="3"><o:p></o:p></font></span></p>\n\n<p style="background: white\;"><span style="color: black\; font-family: &quot\;Calibri&quot\;\,&quot\;sans-serif&quot\;\;"><font size="3"><o:p></o:p></font></span></p>\n\n<p style="background: white\;"><span style="color: black\; font-family: &quot\;Calibri&quot\;\,&quot\;sans-serif&quot\;\;"><font size="3"><o:p></o:p></font></span></p>\n
LOCATION:E8948 Diamond Hill Rd\, North Freedom\, WI 53951
UID:e.1184.8454
SEQUENCE:3
DTSTAMP:20260425T161104Z
URL:http://members.saukprairie.com/events/details/mid-continent-railway-santa-express-11-26-2016-8454
END:VEVENT

END:VCALENDAR
