BEGIN:VCALENDAR
VERSION:2.0
PRODID:-//ChamberMaster//Event Calendar 2.0//EN
METHOD:PUBLISH
X-PUBLISHED-TTL:P3D
REFRESH-INTERVAL:P3D
CALSCALE:GREGORIAN
BEGIN:VEVENT
DTSTART;VALUE=DATE:20171125
DTEND;VALUE=DATE:20171127
TRANSP:TRANSPARENT
X-MICROSOFT-CDO-ALLDAYEVENT:TRUE
SUMMARY:Mid-Continent Railway - Santa Express
DESCRIPTION:Celebrate the holiday season in a uniquely festive way aboard the 24th Annual Santa Express. Santa will visit as you take in the spirit of Christmas past on an early 1900s adventure. All cars are kept comfortably warm using the over century-old tradition of steam heating or coal-fired stoves\, just like at the North Pole.\n\nAll aboard!
X-ALT-DESC;FMTTYPE=text/html:<p style="background: rgb(51\, 0\, 0)\; border: 0px\; margin: 0px 0px 1em\; outline: 0px\; padding: 0px\; vertical-align: baseline\; word-wrap: break-word\; color: rgb(255\, 255\, 255)\; font-family: &quot\;Helvetica Neue&quot\;\, Helvetica\, sans-serif\; font-size: 14.63px\;">Celebrate the holiday season in a uniquely festive way aboard the 24th Annual Santa Express. Santa will visit as you take in the spirit of Christmas past on an early 1900s adventure. All cars are kept comfortably warm using the over century-old tradition of steam heating or coal-fired stoves\, just like at the North Pole.</p>\n\n<p style="background: rgb(51\, 0\, 0)\; border: 0px\; margin: 0px 0px 1em\; outline: 0px\; padding: 0px\; vertical-align: baseline\; word-wrap: break-word\; color: rgb(255\, 255\, 255)\; font-family: &quot\;Helvetica Neue&quot\;\, Helvetica\, sans-serif\; font-size: 14.63px\;">All aboard!</p>\n\n<p style="background: white\;"><span style="color: black\; font-family: &quot\;Calibri&quot\;\,&quot\;sans-serif&quot\;\;"><font size="3">&nbsp\; &nbsp\; &nbsp\; &nbsp\; &nbsp\; &nbsp\; &nbsp\;</font></span></p>\n\n<p style="background: white\;"><span style="color: black\; font-family: &quot\;Calibri&quot\;\,&quot\;sans-serif&quot\;\;"><font size="3"><o:p></o:p></font></span></p>\n\n<p style="background: white\;"><span style="color: black\; font-family: &quot\;Calibri&quot\;\,&quot\;sans-serif&quot\;\;"><font size="3"><o:p></o:p></font></span></p>\n\n<p style="background: white\;"><span style="color: black\; font-family: &quot\;Calibri&quot\;\,&quot\;sans-serif&quot\;\;"><font size="3"><o:p></o:p></font></span></p>\n
LOCATION:E8948 Diamond Hill Rd\, North Freedom\, WI 53951
UID:e.1184.13955
SEQUENCE:3
DTSTAMP:20260424T222133Z
URL:http://members.saukprairie.com/events/details/mid-continent-railway-santa-express-13955
END:VEVENT

END:VCALENDAR
