BEGIN:VCALENDAR
VERSION:2.0
PRODID:-//ChamberMaster//Event Calendar 2.0//EN
METHOD:PUBLISH
X-PUBLISHED-TTL:P3D
REFRESH-INTERVAL:P3D
CALSCALE:GREGORIAN
BEGIN:VEVENT
DTSTART;VALUE=DATE:20170211
DTEND;VALUE=DATE:20170212
TRANSP:TRANSPARENT
X-MICROSOFT-CDO-ALLDAYEVENT:TRUE
SUMMARY:Mid-Continent Railway - Snow Train
DESCRIPTION:Coach Schedule:\n\n                Standard Coach Service - Saturday & Sunday:                 10:00am\, 11:30am\, 1:00pm and 2:30pm.\n\n                First Class Service - Saturday & Sunday:\n\n                11:30am and 1:00pm.\n\n                Dinner Service - Saturday: 5:30pm\n\n                No discounts or coupons.\n\n                Groups by appointment.
X-ALT-DESC;FMTTYPE=text/html:<p style="background: white\;"><span style="color: black\; font-family: &quot\;Calibri&quot\;\,&quot\;sans-serif&quot\;\;"><font size="3">&nbsp\;&nbsp\;&nbsp\;&nbsp\;&nbsp\;&nbsp\;&nbsp\;&nbsp\;&nbsp\;&nbsp\;&nbsp\;&nbsp\;&nbsp\;&nbsp\;&nbsp\;&nbsp\;<strong><span style="font-family: &quot\;Calibri&quot\;\,&quot\;sans-serif&quot\;\;">Coach Schedule:</span></strong><o:p></o:p></font></span></p>\n\n<p style="background: white\;"><span style="color: black\; font-family: &quot\;Calibri&quot\;\,&quot\;sans-serif&quot\;\;"><font size="3">&nbsp\;&nbsp\;&nbsp\;&nbsp\;&nbsp\;&nbsp\;&nbsp\;&nbsp\;&nbsp\;&nbsp\;&nbsp\;&nbsp\;&nbsp\;&nbsp\;&nbsp\;&nbsp\;<strong><span style="font-family: &quot\;Calibri&quot\;\,&quot\;sans-serif&quot\;\;">Standard Coach Service - Saturday &amp\; Sunday: </span></strong></font></span>&nbsp\;&nbsp\;&nbsp\;&nbsp\;&nbsp\;&nbsp\;&nbsp\;&nbsp\;&nbsp\;&nbsp\;&nbsp\;&nbsp\;&nbsp\;&nbsp\;&nbsp\;&nbsp\;<span style="color: black\; font-family: &quot\;Calibri&quot\;\,&quot\;sans-serif&quot\;\;"><font size="3">10:00am\,&nbsp\;11:30am\, 1:00pm and 2:30pm.<o:p></o:p></font></span></p>\n\n<p style="background: white\;"><span style="color: black\; font-family: &quot\;Calibri&quot\;\,&quot\;sans-serif&quot\;\;"><font size="3">&nbsp\;&nbsp\;&nbsp\;&nbsp\;&nbsp\;&nbsp\;&nbsp\;&nbsp\;&nbsp\;&nbsp\;&nbsp\;&nbsp\;&nbsp\;&nbsp\;&nbsp\;&nbsp\;<strong><span style="font-family: &quot\;Calibri&quot\;\,&quot\;sans-serif&quot\;\;">First Class Service - Saturday &amp\; Sunday:</span></strong></font></span></p>\n\n<p style="background: white\;">&nbsp\;&nbsp\;&nbsp\;&nbsp\;&nbsp\;&nbsp\;&nbsp\;&nbsp\;&nbsp\;&nbsp\;&nbsp\;&nbsp\;&nbsp\;&nbsp\;&nbsp\;&nbsp\;<span style="color: black\; font-family: &quot\;Calibri&quot\;\,&quot\;sans-serif&quot\;\;"><font size="3">11:30am and 1:00pm.<o:p></o:p></font></span></p>\n\n<p style="background: white\;"><span style="color: black\; font-family: &quot\;Calibri&quot\;\,&quot\;sans-serif&quot\;\;"><font size="3">&nbsp\;&nbsp\;&nbsp\;&nbsp\;&nbsp\;&nbsp\;&nbsp\;&nbsp\;&nbsp\;&nbsp\;&nbsp\;&nbsp\;&nbsp\;&nbsp\;&nbsp\;&nbsp\;<strong><span style="font-family: &quot\;Calibri&quot\;\,&quot\;sans-serif&quot\;\;">Dinner Service - Saturday: </span></strong>5:30pm</font></span></p>\n\n<p style="background: white\;"><span style="color: black\; font-family: &quot\;Calibri&quot\;\,&quot\;sans-serif&quot\;\;"><font size="3">&nbsp\;&nbsp\;&nbsp\;&nbsp\;&nbsp\;&nbsp\;&nbsp\;&nbsp\;&nbsp\;&nbsp\;&nbsp\;&nbsp\;&nbsp\;&nbsp\;&nbsp\;&nbsp\;No discounts or coupons.<o:p></o:p></font></span></p>\n\n<p style="background: white\;"><span style="color: black\; font-family: &quot\;Calibri&quot\;\,&quot\;sans-serif&quot\;\;"><font size="3">&nbsp\;&nbsp\;&nbsp\;&nbsp\;&nbsp\;&nbsp\;&nbsp\;&nbsp\;&nbsp\;&nbsp\;&nbsp\;&nbsp\;&nbsp\;&nbsp\;&nbsp\;&nbsp\;Groups by appointment.<o:p></o:p></font></span></p>\n
LOCATION:E8948 Diamond Hill Rd\, North Freedom\, WI 53951
UID:e.1184.8455
SEQUENCE:3
DTSTAMP:20260425T110126Z
URL:http://members.saukprairie.com/events/details/mid-continent-railway-snow-train-02-11-2017-8455
END:VEVENT

END:VCALENDAR
