BEGIN:VCALENDAR
VERSION:2.0
PRODID:-//ChamberMaster//Event Calendar 2.0//EN
METHOD:PUBLISH
X-PUBLISHED-TTL:P3D
REFRESH-INTERVAL:P3D
CALSCALE:GREGORIAN
BEGIN:VEVENT
DTSTART;VALUE=DATE:20180210
DTEND;VALUE=DATE:20180212
TRANSP:TRANSPARENT
X-MICROSOFT-CDO-ALLDAYEVENT:TRUE
SUMMARY:Mid-Continent Railway - Snow Train
DESCRIPTION:Ride Amid a Winter Wonderland\n\nWintertime railroading is a unique experience one will never forget. Travel through the Winter Wonderland of scenic Sauk County on our 43rd annual Snow Train. All cars are kept comfortably warm using the over century-old tradition of steam heating or coal-fired stoves.\n\nSchedule\n\nEach train ride lasts approximately 55-minutes round-trip with the exception of the Saturday evening Dinner Train which lasts 2-1/2 to 3 hours. Coach seating is available on all departures except during the Saturday evening Dinner Train. First Class tickets are available on the 11:30 a.m. and 1:00 p.m. departures each day.
X-ALT-DESC;FMTTYPE=text/html:<p style="background: white\;"><span style="color: black\; font-family: &quot\;Calibri&quot\;\,&quot\;sans-serif&quot\;\;"><font size="3">&nbsp\; &nbsp\; &nbsp\; &nbsp\; &nbsp\;</font></span></p>\n\n<h3 style="background: rgb(51\, 0\, 0)\; border: 0px\; margin: 0px 0px 0.7em\; outline: 0px\; padding: 0px\; vertical-align: baseline\; word-wrap: break-word\; clear: both\; color: rgb(255\, 255\, 153)\; font-family: &quot\;Helvetica Neue&quot\;\, Helvetica\, sans-serif\;">Ride Amid a Winter Wonderland</h3>\n\n<p style="background: rgb(51\, 0\, 0)\; border: 0px\; margin: 0px 0px 1em\; outline: 0px\; padding: 0px\; vertical-align: baseline\; word-wrap: break-word\; color: rgb(255\, 255\, 255)\; font-family: &quot\;Helvetica Neue&quot\;\, Helvetica\, sans-serif\; font-size: 14.63px\;">Wintertime railroading is a unique experience one will never forget. Travel through the Winter Wonderland of scenic Sauk County on our 43rd annual Snow Train. All cars are kept comfortably warm using the over century-old tradition of steam heating or coal-fired stoves.</p>\n\n<h3 style="background: rgb(51\, 0\, 0)\; border: 0px\; margin: 0px 0px 0.7em\; outline: 0px\; padding: 0px\; vertical-align: baseline\; word-wrap: break-word\; clear: both\; color: rgb(255\, 255\, 153)\; font-family: &quot\;Helvetica Neue&quot\;\, Helvetica\, sans-serif\;">Schedule</h3>\n\n<p style="background: rgb(51\, 0\, 0)\; border: 0px\; margin: 0px 0px 1em\; outline: 0px\; padding: 0px\; vertical-align: baseline\; word-wrap: break-word\; color: rgb(255\, 255\, 255)\; font-family: &quot\;Helvetica Neue&quot\;\, Helvetica\, sans-serif\; font-size: 14.63px\;">Each train ride lasts approximately 55-minutes round-trip with the exception of the Saturday evening Dinner Train which lasts 2-1/2 to 3 hours. Coach seating is available on all departures except during the Saturday evening Dinner Train. First Class tickets are available on the 11:30 a.m. and 1:00 p.m. departures each day.</p>\n
LOCATION:E8948 Diamond Hill Rd\, North Freedom\, WI 53951
UID:e.1184.13956
SEQUENCE:3
DTSTAMP:20260424T161605Z
URL:http://members.saukprairie.com/events/details/mid-continent-railway-snow-train-13956
END:VEVENT

END:VCALENDAR
