BEGIN:VCALENDAR
VERSION:2.0
PRODID:-//ChamberMaster//Event Calendar 2.0//EN
METHOD:PUBLISH
X-PUBLISHED-TTL:P3D
REFRESH-INTERVAL:P3D
CALSCALE:GREGORIAN
BEGIN:VEVENT
DTSTART:20230322T010000Z
DTEND:20230322T040000Z
X-MICROSOFT-CDO-ALLDAYEVENT:FALSE
SUMMARY:Midgets with attitude must see tour
DESCRIPTION:The Midget Wrestling Show is one of the most fun\, energetic\, competitive midget wrestling event you'll ever see!\n\n\nThe Midget Wrestling Show you Must See Tour in 2023!\n\nMidgets With Attitude returns to the AL. Ringling Brewing Co. for another round of wrestling entertainment. This is one of the most fun\, energetic\, competitive midget wrestling event you'll ever see. Don't miss it!\n\nDoors open 7pm\, show starts at 8pm. Ages 16+ event.\n\nS?ECTIONS: R?ing-Side: Limited tickets left\, purchase at the bar. M?ezzanine: Sold out! G?eneral Admission: Limited tickets left online and at the bar.\n\nV?ENUE: F?ood and drinks available for purchase. Parking lot and street parking available.
X-ALT-DESC;FMTTYPE=text/html:The Midget Wrestling Show is one of the most fun\, energetic\, competitive midget wrestling event you&#39\;ll ever see!\n<div>\n<div>\n<p>The Midget Wrestling Show you Must See Tour in 2023!</p>\n\n<p>Midgets With Attitude returns to the AL. Ringling Brewing Co. for another round of wrestling entertainment. This is one of the most fun\, energetic\, competitive midget wrestling event you&#39\;ll ever see. Don&#39\;t miss it!</p>\n\n<p>Doors open 7pm\, show starts at 8pm. Ages 16+ event.</p>\n\n<p>S?ECTIONS: R?ing-Side: Limited tickets left\, purchase at the bar. M?ezzanine: Sold out! G?eneral Admission: Limited tickets left online and at the bar.</p>\n\n<p>V?ENUE: F?ood and drinks available for purchase. Parking lot and street parking available.</p>\n\n<p>&nbsp\;</p>\n</div>\n</div>\n<br />\n&nbsp\;
LOCATION:Al Ringling Brewing Co 623 Broadway St/ Baraboo\, WI 53913
UID:e.1184.29342
SEQUENCE:3
DTSTAMP:20260420T164825Z
URL:http://members.saukprairie.com/events/details/midgets-with-attitude-must-see-tour-29342
END:VEVENT

END:VCALENDAR
