BEGIN:VCALENDAR
VERSION:2.0
PRODID:-//ChamberMaster//Event Calendar 2.0//EN
METHOD:PUBLISH
X-PUBLISHED-TTL:P3D
REFRESH-INTERVAL:P3D
CALSCALE:GREGORIAN
BEGIN:VEVENT
DTSTART:20180615T150000Z
DTEND:20180615T160000Z
X-MICROSOFT-CDO-ALLDAYEVENT:FALSE
SUMMARY:Mike Neumeyer: Marimba Show
DESCRIPTION:Learn about the Marimba through singing\, dancing\, and listening to this wooden xylophone beat out a rockin' tune!
X-ALT-DESC;FMTTYPE=text/html:<span style="color:rgb(68\, 68\, 68)\; font-family:helvetica neue\,arial\,helvetica\,nimbus sans l\,sans-serif\; font-size:12.8px">Learn about the Marimba through singing\, dancing\, and listening to this wooden xylophone beat out a rockin&rsquo\; tune!</span>
LOCATION:
UID:e.1184.18321
SEQUENCE:3
DTSTAMP:20260424T100515Z
URL:http://members.saukprairie.com/events/details/mike-neumeyer-marimba-show-18321
END:VEVENT

END:VCALENDAR
