BEGIN:VCALENDAR
VERSION:2.0
PRODID:-//ChamberMaster//Event Calendar 2.0//EN
METHOD:PUBLISH
X-PUBLISHED-TTL:P3D
REFRESH-INTERVAL:P3D
CALSCALE:GREGORIAN
BEGIN:VEVENT
DTSTART:20171024T150000Z
DTEND:20171024T160000Z
X-MICROSOFT-CDO-ALLDAYEVENT:FALSE
SUMMARY:Milio's Ribbon Cutting Event
DESCRIPTION:Please join Milio's for a Ribbon Cutting on Tuesday\, October 3rd.\n\n\n\nPlease RSVP for the Ribbon Cutting to spacc@saukprairie.com
X-ALT-DESC;FMTTYPE=text/html:Please join Milio&#39\;s for a Ribbon Cutting on Tuesday\, October 3rd.<br />\n<br />\nPlease RSVP for the&nbsp\;Ribbon Cutting to&nbsp\;spacc@saukprairie.com
LOCATION:
UID:e.1184.13960
SEQUENCE:3
DTSTAMP:20260424T222102Z
URL:http://members.saukprairie.com/events/details/milio-s-ribbon-cutting-event-13960
END:VEVENT

END:VCALENDAR
