BEGIN:VCALENDAR
VERSION:2.0
PRODID:-//ChamberMaster//Event Calendar 2.0//EN
METHOD:PUBLISH
X-PUBLISHED-TTL:P3D
REFRESH-INTERVAL:P3D
CALSCALE:GREGORIAN
BEGIN:VEVENT
DTSTART:20181024T150000Z
DTEND:20181024T160000Z
X-MICROSOFT-CDO-ALLDAYEVENT:FALSE
SUMMARY:Military Service and Moral/Psychological Wounds
DESCRIPTION:Military Service changes us all\, but for some\, that change is deep and traumatic.  This presentation will help us better understand these injuries.  Presented by Sauk County Veterans Service Officer\, Tony Tyczynksi.  Tony\, proudly served in the U.S. Marine Corps from 1980-1985 as a Combat Engineer and Weather Observer. Register for this FREE program by calling 643-8386.
X-ALT-DESC;FMTTYPE=text/html:Military Service changes us all\, but for some\, that change is deep and traumatic.&nbsp\; This presentation will help us better understand these injuries.&nbsp\; Presented by Sauk County Veterans Service Officer\, Tony Tyczynksi.&nbsp\; Tony\, proudly served in the U.S. Marine Corps from 1980-1985 as a Combat Engineer and Weather Observer. Register for this FREE program by calling 643-8386.
LOCATION:Community Center\, 730 Monroe St.\, Sauk City\, WI 53583
UID:e.1184.20940
SEQUENCE:3
DTSTAMP:20260424T034202Z
URL:http://members.saukprairie.com/events/details/military-service-and-moral-psychological-wounds-20940
END:VEVENT

END:VCALENDAR
