BEGIN:VCALENDAR
VERSION:2.0
PRODID:-//ChamberMaster//Event Calendar 2.0//EN
METHOD:PUBLISH
X-PUBLISHED-TTL:P3D
REFRESH-INTERVAL:P3D
CALSCALE:GREGORIAN
BEGIN:VEVENT
DTSTART:20210630T180000Z
DTEND:20210630T200000Z
X-MICROSOFT-CDO-ALLDAYEVENT:FALSE
SUMMARY:Milk Jug Animal Masks
DESCRIPTION:Sign up to create a Milk Jug Animal Mask! Pick your favorite animal or create your own legendary creature inspired by a Tall Tale. This is a two-week project\; create a mask on June 23 and decorate it on June 30. Registration is required.
X-ALT-DESC;FMTTYPE=text/html:Sign up to create a Milk Jug Animal Mask! Pick your favorite animal or create your own legendary creature inspired by a Tall Tale. This is a two-week project\; create a mask on June 23 and decorate it on June 30. Registration is required.
LOCATION:615 Phillips Blvd Sauk City\, WI 53583
UID:e.1184.26641
SEQUENCE:3
DTSTAMP:20260422T034848Z
URL:http://members.saukprairie.com/events/details/milk-jug-animal-masks-06-30-2021-26641
END:VEVENT

END:VCALENDAR
