BEGIN:VCALENDAR
VERSION:2.0
PRODID:-//ChamberMaster//Event Calendar 2.0//EN
METHOD:PUBLISH
X-PUBLISHED-TTL:P3D
REFRESH-INTERVAL:P3D
CALSCALE:GREGORIAN
BEGIN:VEVENT
DTSTART:20230802T183000Z
DTEND:20230802T193000Z
X-MICROSOFT-CDO-ALLDAYEVENT:FALSE
SUMMARY:Miller & Mike Show
DESCRIPTION:Miller & Mike have entertained audiences since 2001\, including with the Ringling Bros. and Barnum & Bailey Circus. Their act includes juggling\, circus skills\, and comedy. This event is suitable for all ages.
X-ALT-DESC;FMTTYPE=text/html:Miller &amp\; Mike have entertained audiences since 2001\, including with the Ringling Bros. and Barnum &amp\; Bailey Circus. Their act includes juggling\, circus skills\, and comedy. This event is suitable for all ages.
LOCATION:615 Phillips Blvd. Sauk City\, WI 53583
UID:e.1184.30883
SEQUENCE:3
DTSTAMP:20260420T091514Z
URL:http://members.saukprairie.com/events/details/miller-mike-show-30883
END:VEVENT

END:VCALENDAR
