BEGIN:VCALENDAR
VERSION:2.0
PRODID:-//ChamberMaster//Event Calendar 2.0//EN
METHOD:PUBLISH
X-PUBLISHED-TTL:P3D
REFRESH-INTERVAL:P3D
CALSCALE:GREGORIAN
BEGIN:VEVENT
DTSTART;VALUE=DATE:20160908
DTEND;VALUE=DATE:20160909
TRANSP:TRANSPARENT
X-MICROSOFT-CDO-ALLDAYEVENT:TRUE
SUMMARY:Milwaukee Bucks coming to BMO Harris Bank
DESCRIPTION:Join us for a stop during the Milwaukee Bucks Own the Future Statewide Tour featuring interactive games & special appearances by Thon Maker\, Bango\, Hoop Troop\, Rim Rockers\, and the Milwaukee Bucks Dancers.\n\n\n\nBMO Harris Bank - official Bank of the Milwaukee Bucks
X-ALT-DESC;FMTTYPE=text/html:Join us for a stop during the Milwaukee Bucks Own the&nbsp\;Future Statewide Tour featuring interactive games &amp\;&nbsp\;special appearances by Thon Maker\, Bango\, Hoop Troop\,&nbsp\;Rim Rockers\, and the Milwaukee Bucks Dancers.<br />\n<br />\nBMO Harris Bank - official Bank of the Milwaukee Bucks<br />\n&nbsp\;
LOCATION:BMO Harris Bank - Sauk City 615 Water Street Sauk City 53583
UID:e.1184.9365
SEQUENCE:3
DTSTAMP:20260425T192919Z
URL:http://members.saukprairie.com/events/details/milwaukee-bucks-coming-to-bmo-harris-bank-9365
END:VEVENT

END:VCALENDAR
