BEGIN:VCALENDAR
VERSION:2.0
PRODID:-//ChamberMaster//Event Calendar 2.0//EN
METHOD:PUBLISH
X-PUBLISHED-TTL:P3D
REFRESH-INTERVAL:P3D
CALSCALE:GREGORIAN
BEGIN:VEVENT
DTSTART:20220608T180000Z
DTEND:20220609T000000Z
X-MICROSOFT-CDO-ALLDAYEVENT:FALSE
SUMMARY:Milwaukee Valve Open House
DESCRIPTION:Come join us for our open house and job fair on Wednesday\, June 8th from 1pm-7pm! Free gift cards to all who stop in and apply\, plus be entered to win a Nintendo Switch! Part-time\, full-time\, summer-only\, and long term positions are available.\n\n\n\nCan't make it? Call 608-643-1665
X-ALT-DESC;FMTTYPE=text/html:<span style="font-family:arial\;">Come join us for our open house and job fair on Wednesday\, June 8th from 1pm-7pm! Free gift cards to all who stop in and apply\, plus be entered to win a Nintendo Switch! Part-time\, full-time\, summer-only\, and long term positions are available.<br />\n<br />\nCan&#39\;t make it? Call 608-643-1665</span>
LOCATION:1075 Water St\, Prairie du Sac
UID:e.1184.27954
SEQUENCE:3
DTSTAMP:20260421T115846Z
URL:http://members.saukprairie.com/events/details/milwaukee-valve-open-house-27954
END:VEVENT

END:VCALENDAR
