BEGIN:VCALENDAR
VERSION:2.0
PRODID:-//ChamberMaster//Event Calendar 2.0//EN
METHOD:PUBLISH
X-PUBLISHED-TTL:P3D
REFRESH-INTERVAL:P3D
CALSCALE:GREGORIAN
BEGIN:VEVENT
DTSTART:20221007T150000Z
DTEND:20221008T190000Z
X-MICROSOFT-CDO-ALLDAYEVENT:FALSE
SUMMARY:Mini Market on the Lawn
DESCRIPTION:The perfect weekend to browse our Mini Market on the Lawn while enjoying the Farm Art d'Tour and Vintage Shop Hop! Browse our unique selection of handmade goods & curated vin-tiques as well as our outdoor Mini Market featuring many of our talented Vendors! Open Friday\, October 7 from 10-5 and Saturday\, October 8 from 9-3!
X-ALT-DESC;FMTTYPE=text/html:<p><span style="font-family:segoe ui historic\,segoe ui\,helvetica\,arial\,sans-serif\; font-size:15px">The perfect weekend to browse our Mini Market on the Lawn while enjoying the Farm Art d&rsquo\;Tour and Vintage Shop Hop! Browse our unique selection of handmade goods &amp\; curated vin-tiques as well as our outdoor Mini Market featuring many of our talented Vendors! Open Friday\, October 7 from 10-5 and Saturday\, October 8 from 9-3!</span></p>\n
LOCATION:ReTwist-T\, 515 Water Street\, Sauk City\, Wisconsin
UID:e.1184.28721
SEQUENCE:3
DTSTAMP:20260421T033252Z
URL:http://members.saukprairie.com/events/details/mini-market-on-the-lawn-28721
END:VEVENT

END:VCALENDAR
