BEGIN:VCALENDAR
VERSION:2.0
PRODID:-//ChamberMaster//Event Calendar 2.0//EN
METHOD:PUBLISH
X-PUBLISHED-TTL:P3D
REFRESH-INTERVAL:P3D
CALSCALE:GREGORIAN
BEGIN:VEVENT
DTSTART:20190720T150000Z
DTEND:20190720T170000Z
X-MICROSOFT-CDO-ALLDAYEVENT:FALSE
SUMMARY:Mini Signs & Mimosas - DIY Workshop
DESCRIPTION:Have you been interested in trying out one of our workshops but were unsure about your artistic abilities? This mini sign workshop (with mimosas!) is the perfect chance to try one out!\n\nParticipants can choose to purchase one sign ($35) or two ($55). All signs are roughly 10x10. All materials to complete the desired number of signs will be available during the workshop. You will also be able to pick paint and stain colors during the workshop. Bottomless mimosas will be available for purchase (other beverages available for purchase as well).\n\nDate: July 20\, 2019\n\nTime: 10:00am\n\nLocation: HBH Studio
X-ALT-DESC;FMTTYPE=text/html:<p>Have you been interested in trying out one of our workshops but were unsure about your artistic abilities? This mini sign workshop (with mimosas!) is the perfect chance to try one out!</p>\n\n<p>Participants can choose to purchase one sign ($35) or two ($55). All signs are roughly 10x10. All materials to complete the desired number of signs will be available during the workshop. You will also be able to pick paint and stain colors during the workshop. Bottomless mimosas will be available for purchase (other beverages available for purchase as well).</p>\n\n<p><strong>Date:&nbsp\;</strong>July 20\, 2019</p>\n\n<p><strong>Time:&nbsp\;</strong>10:00am</p>\n\n<p><strong>Location:&nbsp\;</strong>HBH Studio</p>\n
LOCATION:HBH Studio 421 Water St\, Suite 105 Prairie du Sac\, WI 53583
UID:e.1184.22586
SEQUENCE:3
DTSTAMP:20260423T153302Z
URL:http://members.saukprairie.com/events/details/mini-signs-mimosas-diy-workshop-22586
END:VEVENT

END:VCALENDAR
