BEGIN:VCALENDAR
VERSION:2.0
PRODID:-//ChamberMaster//Event Calendar 2.0//EN
METHOD:PUBLISH
X-PUBLISHED-TTL:P3D
REFRESH-INTERVAL:P3D
CALSCALE:GREGORIAN
BEGIN:VEVENT
DTSTART:20190503T230000Z
DTEND:20190504T003000Z
X-MICROSOFT-CDO-ALLDAYEVENT:FALSE
SUMMARY:Miss Kim's Amazing Animals
DESCRIPTION:Celebrate Children's Day/Book Day at the Ruth Culver Community Library Friday\, May 3 at 6:00 p.m. with Miss Kim's Amazing Animals! Have you ever wondered how a chinchilla takes a bath or what a bearded dragon likes to eat? Find these answers out and more when Miss Kim brings her amazing animals! You can even hold and touch them! There will also be also be cake\, pi atas\, and book prizes.  Fun for the whole family!  Contact Heather Cole at 643-8318 with questions.
X-ALT-DESC;FMTTYPE=text/html:Celebrate Children&rsquo\;s Day/Book Day at the Ruth Culver Community Library Friday\, May 3 at 6:00 p.m. with Miss Kim&rsquo\;s Amazing Animals! Have you ever wondered how a chinchilla takes a bath or what a bearded dragon likes to eat? Find these answers out and more when Miss Kim brings her amazing animals! You can even hold and touch them! There will also be also be cake\, pi&ntilde\;atas\, and book prizes.&nbsp\; Fun for the whole family!&nbsp\; Contact Heather Cole at 643-8318 with questions.
LOCATION:Ruth Culver Community Library 540 Water Street\, Prairie du Sac
UID:e.1184.22155
SEQUENCE:3
DTSTAMP:20260423T171804Z
URL:http://members.saukprairie.com/events/details/miss-kim-s-amazing-animals-22155
END:VEVENT

END:VCALENDAR
