BEGIN:VCALENDAR
VERSION:2.0
PRODID:-//ChamberMaster//Event Calendar 2.0//EN
METHOD:PUBLISH
X-PUBLISHED-TTL:P3D
REFRESH-INTERVAL:P3D
CALSCALE:GREGORIAN
BEGIN:VEVENT
DTSTART:20220720T190000Z
DTEND:20220720T203000Z
X-MICROSOFT-CDO-ALLDAYEVENT:FALSE
SUMMARY:Mississippi River Museum & Aquarium
DESCRIPTION:A fun\, fact-filled program that breaks down common myths and misconceptions about sharks and their environment and explains how to help them. After the program\, kids can get a chance to touch a live shark in their mobile touch tank.
X-ALT-DESC;FMTTYPE=text/html:A fun\, fact-filled program that breaks down common myths and misconceptions about sharks and their environment and explains how to help them. After the program\, kids can get a chance to touch a live shark in their mobile touch tank.
LOCATION:615 Phillips Blvd. Sauk City\, WI 53583
UID:e.1184.28020
SEQUENCE:3
DTSTAMP:20260421T103805Z
URL:http://members.saukprairie.com/events/details/mississippi-river-museum-aquarium-28020
END:VEVENT

END:VCALENDAR
