BEGIN:VCALENDAR
VERSION:2.0
PRODID:-//ChamberMaster//Event Calendar 2.0//EN
METHOD:PUBLISH
X-PUBLISHED-TTL:P3D
REFRESH-INTERVAL:P3D
CALSCALE:GREGORIAN
BEGIN:VEVENT
DTSTART:20200619T000000Z
DTEND:20200619T020000Z
X-MICROSOFT-CDO-ALLDAYEVENT:FALSE
SUMMARY:MMB at Vintage Brewing
DESCRIPTION:The Madtown Mannish Boys are a Madison-based Blues and Soul band who are steeped in Chicago-style Blues\, including artists like Muddy Waters\, Junior Wells\, and Paul Butterfield. They perform with raw exuberance and driving rhythms that make you want to boogie.\n\n\n\nMusic will be on the deck if weather permits and inside the bar if not.
X-ALT-DESC;FMTTYPE=text/html:<div class="_63eu" style="box-sizing: border-box\; font-size: 14px\; max-height: 260px\; overflow: hidden\; padding: 12px\; overflow-wrap: break-word\; font-family: Helvetica\, Arial\, sans-serif\; color: rgb(29\, 33\, 41)\;">\n<div class="_63ew" data-testid="event-permalink-details" style="font-family: inherit\;"><span style="color: rgb(29\, 33\, 41)\; font-family: Helvetica\, Arial\, sans-serif\; font-size: 14px\; white-space: pre-wrap\;">The Madtown Mannish Boys are a Madison-based Blues and Soul band who are steeped in Chicago-style Blues\, including artists like Muddy Waters\, Junior Wells\, and Paul Butterfield. They perform with raw exuberance and driving rhythms that make you want to boogie.</span><br style="color: rgb(29\, 33\, 41)\; font-family: Helvetica\, Arial\, sans-serif\; font-size: 14px\; white-space: pre-wrap\;" />\n<br style="color: rgb(29\, 33\, 41)\; font-family: Helvetica\, Arial\, sans-serif\; font-size: 14px\; white-space: pre-wrap\;" />\n<span style="color: rgb(29\, 33\, 41)\; font-family: Helvetica\, Arial\, sans-serif\; font-size: 14px\; white-space: pre-wrap\;">Music will be on the deck if weather permits and inside the bar if not. </span></div>\n\n<div>&nbsp\;</div>\n</div>\n
LOCATION:Vintage Brewing Co. 600 Water St. Sauk City
UID:e.1184.24098
SEQUENCE:3
DTSTAMP:20260424T092543Z
URL:http://members.saukprairie.com/events/details/mmb-at-vintage-brewing-24098
END:VEVENT

END:VCALENDAR
