BEGIN:VCALENDAR
VERSION:2.0
PRODID:-//ChamberMaster//Event Calendar 2.0//EN
METHOD:PUBLISH
X-PUBLISHED-TTL:P3D
REFRESH-INTERVAL:P3D
CALSCALE:GREGORIAN
BEGIN:VEVENT
DTSTART:20221002T000000Z
DTEND:20221002T020000Z
X-MICROSOFT-CDO-ALLDAYEVENT:FALSE
SUMMARY:Mo Pitney at Sauk Prairie River Arts Center
DESCRIPTION:Mo Pitney took the country music industry by storm with the release of his single\, "Country" in 2014. Since then\, he's released two albums "Behind this Guitar" and "Ain't Lookin' Back\," which reached Billboard's Top Ten Country Albums chart the first week of its release. A regular guest on "Country's Family Reunion" and recently an opening act for Josh Turner and Diamond Rio\, Mo exudes classic country at its finest. \n\n\n\nCome see him at the River Arts Center!
X-ALT-DESC;FMTTYPE=text/html:<span style="color:rgb(0\, 0\, 0)\; font-family:arial\,helvetica\,sans-serif">Mo Pitney took the country music industry by storm with the release of his single\, &ldquo\;Country&rdquo\; in 2014. Since then\, he&rsquo\;s released two albums &ldquo\;Behind this Guitar&rdquo\; and &ldquo\;Ain&rsquo\;t Lookin&rsquo\; Back\,&rdquo\; which reached Billboard&rsquo\;s Top Ten Country Albums chart the first week of its release.&nbsp\;A regular guest on &ldquo\;Country&rsquo\;s Family Reunion&rdquo\; and recently an opening act for Josh Turner and Diamond Rio\, Mo exudes classic country at its finest.&nbsp\;<br />\n<br />\nCome see him at the River Arts Center!</span>
LOCATION:105 9th St\, Prairie Du Sac\, WI 53578
UID:e.1184.28198
SEQUENCE:3
DTSTAMP:20260421T033355Z
URL:http://members.saukprairie.com/events/details/mo-pitney-at-sauk-prairie-river-arts-center-28198
END:VEVENT

END:VCALENDAR
