BEGIN:VCALENDAR
VERSION:2.0
PRODID:-//ChamberMaster//Event Calendar 2.0//EN
METHOD:PUBLISH
X-PUBLISHED-TTL:P3D
REFRESH-INTERVAL:P3D
CALSCALE:GREGORIAN
BEGIN:VEVENT
DTSTART:20180207T010000Z
DTEND:20180207T020000Z
X-MICROSOFT-CDO-ALLDAYEVENT:FALSE
SUMMARY:Modern Falconry & Habitat Loss
DESCRIPTION:Hosted by the West Point Area Historical Society. Presenter is David Zilker\, President of the Wisconsin Falconers Association.
X-ALT-DESC;FMTTYPE=text/html:Hosted by the West Point Area Historical Society. Presenter is David Zilker\, President of the Wisconsin Falconers Association.
LOCATION:West Point Town Hall N2114 Rausch Road Lodi\, WI 53555
UID:e.1184.14623
SEQUENCE:3
DTSTAMP:20260424T161942Z
URL:http://members.saukprairie.com/events/details/modern-falconry-habitat-loss-14623
END:VEVENT

END:VCALENDAR
